BEGIN:VCALENDAR
VERSION:2.0
PRODID:-//Ivanhoe Baptist Community - ECPv6.15.20//NONSGML v1.0//EN
CALSCALE:GREGORIAN
METHOD:PUBLISH
X-WR-CALNAME:Ivanhoe Baptist Community
X-ORIGINAL-URL:https://ivanhoebaptist.org.au
X-WR-CALDESC:Events for Ivanhoe Baptist Community
REFRESH-INTERVAL;VALUE=DURATION:PT1H
X-Robots-Tag:noindex
X-PUBLISHED-TTL:PT1H
BEGIN:VTIMEZONE
TZID:Australia/Melbourne
BEGIN:STANDARD
TZOFFSETFROM:+1100
TZOFFSETTO:+1000
TZNAME:AEST
DTSTART:20250405T160000
END:STANDARD
BEGIN:DAYLIGHT
TZOFFSETFROM:+1000
TZOFFSETTO:+1100
TZNAME:AEDT
DTSTART:20251004T160000
END:DAYLIGHT
BEGIN:STANDARD
TZOFFSETFROM:+1100
TZOFFSETTO:+1000
TZNAME:AEST
DTSTART:20260404T160000
END:STANDARD
BEGIN:DAYLIGHT
TZOFFSETFROM:+1000
TZOFFSETTO:+1100
TZNAME:AEDT
DTSTART:20261003T160000
END:DAYLIGHT
BEGIN:STANDARD
TZOFFSETFROM:+1100
TZOFFSETTO:+1000
TZNAME:AEST
DTSTART:20270403T160000
END:STANDARD
BEGIN:DAYLIGHT
TZOFFSETFROM:+1000
TZOFFSETTO:+1100
TZNAME:AEDT
DTSTART:20271002T160000
END:DAYLIGHT
END:VTIMEZONE
BEGIN:VEVENT
DTSTART;TZID=Australia/Melbourne:20260201T100000
DTEND;TZID=Australia/Melbourne:20260201T113000
DTSTAMP:20260425T070131
CREATED:20260130T081118Z
LAST-MODIFIED:20260130T081118Z
UID:38523-1769940000-1769945400@ivanhoebaptist.org.au
SUMMARY:The Journey Begins - Sunday @ 10am
DESCRIPTION:Mark gives us the shortest—and one of the most dynamic—accounts of Jesus’ life. And he doesn’t begin with a manger scene. Instead\, Mark opens with Jesus bursting onto the stage of history with an urgent declaration: “The time is fulfilled\, and the kingdom of God has come near!” \n\nThis week we launch a new 8‑week series through the Gospel of Mark\, exploring what it means for heaven to be torn open and for God to break into our world. Join us as we begin this journey of discovering what life with Jesus on the road truly looks like. \nCommunion will be celebrated during the service.\nAfterwards\, stay for morning tea and refreshments—we’d love to connect with you.
URL:https://ivanhoebaptist.org.au/event/the-journey-begins-sunday-10am/
LOCATION:Ivanhoe Baptist Church\, 1 Livingstone Street\, IVANHOE\, VIC\, 3079\, Australia
ATTACH;FMTTYPE=image/jpeg:https://ivanhoebaptist.org.au/gem/wp-content/uploads/2026/01/2026-02-01-Mark-The-Beginning-of-the-Good-News.jpg
ORGANIZER;CN="Ivanhoe Baptist Church":MAILTO:info@ivanhoebaptist.org.au
END:VEVENT
BEGIN:VEVENT
DTSTART;TZID=Australia/Melbourne:20260208T100000
DTEND;TZID=Australia/Melbourne:20260208T113000
DTSTAMP:20260425T070131
CREATED:20260201T224041Z
LAST-MODIFIED:20260205T232902Z
UID:38528-1770544800-1770550200@ivanhoebaptist.org.au
SUMMARY:You Can't Do That - Jesus' Authority Challenged - Sunday @ 10am
DESCRIPTION:Four friends tear a hole through a roof to get their paralysed friend to Jesus. Religious leaders accuse Jesus of blasphemy. Jesus eats dinner with ‘tax collectors and sinners.’ “Why?” ask the religious leaders. This Sunday: five rapid-fire conflicts that reveal who Jesus really is and what he came to do. He claims authority to forgive sins\, redefine religious boundaries\, and be ‘Lord of the Sabbath.’ The religious establishment is shocked. But Jesus makes it clear: he came not for the righteous\, but for sinners. \n\nJoin us as we consider what this might mean for us today. All welcome. \nMorning tea and a light lunch will be served afterwards.
URL:https://ivanhoebaptist.org.au/event/jesus-challenged-sunday-10am/
LOCATION:Ivanhoe Baptist Church\, 1 Livingstone Street\, IVANHOE\, VIC\, 3079\, Australia
ATTACH;FMTTYPE=image/jpeg:https://ivanhoebaptist.org.au/gem/wp-content/uploads/2026/02/2026-02-08-Mark-Jesus-Authority-Challenged.jpg
ORGANIZER;CN="Ivanhoe Baptist Church":MAILTO:info@ivanhoebaptist.org.au
END:VEVENT
BEGIN:VEVENT
DTSTART;TZID=Australia/Melbourne:20260212T100000
DTEND;TZID=Australia/Melbourne:20260212T110000
DTSTAMP:20260425T070131
CREATED:20260211T121738Z
LAST-MODIFIED:20260211T121738Z
UID:38533-1770890400-1770894000@ivanhoebaptist.org.au
SUMMARY:Funeral service celebrating the life of the late Sadie Newnham
DESCRIPTION:A funeral service will be held at Ivanhoe Baptist Church\, on 12th February 2026\, 10.00am or attend online via livestream (https://www.youtube.com/live/U4hRMaeGTWs) Family and friends are kindly invited to attend\, with limited parking available to those with special needs\, and overflow parking at Ivanhoe Plaza\, 4 Livingstone Street Ivanhoe. \nNo flowers by request\, but donations are welcome in lieu to Mobile Mission Maintenance Australia via their website\, reference “Sadie Newnham”.
URL:https://ivanhoebaptist.org.au/event/funeral-service-celebrating-the-life-of-the-late-sadie-newnham/
LOCATION:Ivanhoe Baptist Church\, 1 Livingstone Street\, IVANHOE\, VIC\, 3079\, Australia
ATTACH;FMTTYPE=image/jpeg:https://ivanhoebaptist.org.au/gem/wp-content/uploads/2026/02/IMG_8406.jpeg
ORGANIZER;CN="Ivanhoe Baptist Church":MAILTO:info@ivanhoebaptist.org.au
END:VEVENT
BEGIN:VEVENT
DTSTART;TZID=Australia/Melbourne:20260215T100000
DTEND;TZID=Australia/Melbourne:20260215T113000
DTSTAMP:20260425T070131
CREATED:20260209T081646Z
LAST-MODIFIED:20260213T084143Z
UID:38581-1771149600-1771155000@ivanhoebaptist.org.au
SUMMARY:Seeing and Believing - Sunday @ 10am
DESCRIPTION:Jesus feeds 4\,000 people. The Pharisees demand a sign. The disciples worry about bread even though they’ve just witnessed miracles. And then Jesus heals a blind man… but it takes two touches. ‘I can see people\, but they look like trees\, walking.’ This Sunday we explore spiritual blindness and sight. Sometimes we see but don’t understand. Join us as we ask Jesus to open our eyes. \n\nAll welcome. \nMorning tea will be served after the service.
URL:https://ivanhoebaptist.org.au/event/seeing-and-believing-sunday-10am/
LOCATION:Ivanhoe Baptist Church\, 1 Livingstone Street\, IVANHOE\, VIC\, 3079\, Australia
ATTACH;FMTTYPE=image/jpeg:https://ivanhoebaptist.org.au/gem/wp-content/uploads/2026/02/2026-02-15-Mark-Seeing-and-Believing.jpg
ORGANIZER;CN="Ivanhoe Baptist Church":MAILTO:info@ivanhoebaptist.org.au
END:VEVENT
BEGIN:VEVENT
DTSTART;TZID=Australia/Melbourne:20260222T103000
DTEND;TZID=Australia/Melbourne:20260222T113000
DTSTAMP:20260425T070131
CREATED:20260213T090427Z
LAST-MODIFIED:20260216T054435Z
UID:38583-1771756200-1771759800@ivanhoebaptist.org.au
SUMMARY:Mosaic Combined Churches Service - Regent Baptist Church
DESCRIPTION:Join Us for a Special Combined Churches Service to be held at Regent Baptist Church. \nNOTE: there will be no service at Ivanhoe that morning. \nOn Sunday 22nd February @ 10.30am we’re excited to welcome Rev Alexandra Sangster — Councillor on Darebin Council and Minister at St Kilda South Port Uniting Church — as she brings us a timely Lenten reflection on “The Call to Grow and Serve”. \nWe’ll explore how God’s word takes root in our lives and challenges us to serve our communities with purpose. \nWhat to expect: \n\nInspiring reflection\nInsights from ministry and local government\nCommunion\nMission update from Lisa serving in South Asia\nFellowship and refreshments\n\nJoin us in person or online — the service will be live-streamed on ZOOM – the link is \nhttps://us06web.zoom.us/j/86297482433?pwd=Qm5ldTJ1YzFwemI5RjFuV2dqeXFYQT09 \nMeeting Id 862 9748 2433 \nPassword 375712 \nThe Mosaic Network is a partnership between Ivanhoe\, Regent\, Rosanna and West Preston Baptist Churches. \nAll welcome!
URL:https://ivanhoebaptist.org.au/event/mosaic-combined-churches-service-regent-baptist-church/
LOCATION:Regent Baptist Church\, 734 High Street\, RESERVOIR\, VIC\, 3073\, Australia
ATTACH;FMTTYPE=image/jpeg:https://ivanhoebaptist.org.au/gem/wp-content/uploads/2026/02/2026-02-22-Mosaic-Service-e1771220665591.jpg
END:VEVENT
END:VCALENDAR