BEGIN:VCALENDAR
VERSION:2.0
PRODID:-//Ivanhoe Baptist Community - ECPv6.15.20//NONSGML v1.0//EN
CALSCALE:GREGORIAN
METHOD:PUBLISH
X-WR-CALNAME:Ivanhoe Baptist Community
X-ORIGINAL-URL:https://ivanhoebaptist.org.au
X-WR-CALDESC:Events for Ivanhoe Baptist Community
REFRESH-INTERVAL;VALUE=DURATION:PT1H
X-Robots-Tag:noindex
X-PUBLISHED-TTL:PT1H
BEGIN:VTIMEZONE
TZID:Australia/Melbourne
BEGIN:STANDARD
TZOFFSETFROM:+1100
TZOFFSETTO:+1000
TZNAME:AEST
DTSTART:20240406T160000
END:STANDARD
BEGIN:DAYLIGHT
TZOFFSETFROM:+1000
TZOFFSETTO:+1100
TZNAME:AEDT
DTSTART:20241005T160000
END:DAYLIGHT
BEGIN:STANDARD
TZOFFSETFROM:+1100
TZOFFSETTO:+1000
TZNAME:AEST
DTSTART:20250405T160000
END:STANDARD
BEGIN:DAYLIGHT
TZOFFSETFROM:+1000
TZOFFSETTO:+1100
TZNAME:AEDT
DTSTART:20251004T160000
END:DAYLIGHT
BEGIN:STANDARD
TZOFFSETFROM:+1100
TZOFFSETTO:+1000
TZNAME:AEST
DTSTART:20260404T160000
END:STANDARD
BEGIN:DAYLIGHT
TZOFFSETFROM:+1000
TZOFFSETTO:+1100
TZNAME:AEDT
DTSTART:20261003T160000
END:DAYLIGHT
END:VTIMEZONE
BEGIN:VEVENT
DTSTART;TZID=Australia/Melbourne:20251207T100000
DTEND;TZID=Australia/Melbourne:20251207T110000
DTSTAMP:20260425T094654
CREATED:20251203T011343Z
LAST-MODIFIED:20251203T011343Z
UID:38486-1765101600-1765105200@ivanhoebaptist.org.au
SUMMARY:Family Christmas Service and BBQ lunch - Sunday @ 10am
DESCRIPTION:Bring the whole family for a special morning of carols\, story\, and celebration! We’ll sing together the songs that have carried Christmas hope across generations—from “Silent Night” to “O Come All Ye Faithful.” \nPeace isn’t the absence of chaos—it’s the presence of Jesus\, steady and kind\, quieting the noise within and around us. Through carols\, scripture\, and interactive elements for all ages\, we’ll discover that we are not left behind or left alone. \nThis service is designed for everyone—from the smallest to the oldest among us. Morning tea and lunch to follow! \nAll ages welcome.
URL:https://ivanhoebaptist.org.au/event/family-christmas-service-and-bbq-lunch-sunday-10am/
LOCATION:Ivanhoe Baptist Church\, 1 Livingstone Street\, IVANHOE\, VIC\, 3079\, Australia
ATTACH;FMTTYPE=image/jpeg:https://ivanhoebaptist.org.au/gem/wp-content/uploads/2025/12/2025-12-07-Advent-2-Family-Service.jpg
ORGANIZER;CN="Ivanhoe Baptist Church":MAILTO:info@ivanhoebaptist.org.au
END:VEVENT
BEGIN:VEVENT
DTSTART;TZID=Australia/Melbourne:20251214T100000
DTEND;TZID=Australia/Melbourne:20251214T113000
DTSTAMP:20260425T094654
CREATED:20251211T130114Z
LAST-MODIFIED:20251211T130114Z
UID:38490-1765706400-1765711800@ivanhoebaptist.org.au
SUMMARY:The Joy of Unexpected Grace - Sunday @ 10am
DESCRIPTION:The Christmas story is full of surprises—shepherds chosen over kings\, a manger instead of a palace\, weakness revealing strength. This Sunday we explore how God’s joy comes through the most unexpected doorways.\nWhen we release our grip on how we think things should be\, we create space for the kind of joy that changes everything. What might you discover if you looked for God in the unexpected places of your life? \nJoin us on Sunday @ 10am \nMorning tea will be served after the service \nAll welcome
URL:https://ivanhoebaptist.org.au/event/the-joy-of-unexpected-grace-sunday-10am/
LOCATION:Ivanhoe Baptist Church\, 1 Livingstone Street\, IVANHOE\, VIC\, 3079\, Australia
ATTACH;FMTTYPE=image/jpeg:https://ivanhoebaptist.org.au/gem/wp-content/uploads/2025/12/IMG_7991.jpeg
ORGANIZER;CN="Ivanhoe Baptist Church":MAILTO:info@ivanhoebaptist.org.au
END:VEVENT
BEGIN:VEVENT
DTSTART;TZID=Australia/Melbourne:20251221T100000
DTEND;TZID=Australia/Melbourne:20251221T113000
DTSTAMP:20260425T094654
CREATED:20251220T103332Z
LAST-MODIFIED:20251220T103332Z
UID:38495-1766311200-1766316600@ivanhoebaptist.org.au
SUMMARY:Love Came Down - Sunday@10am
DESCRIPTION:“I’m absolutely convinced that nothing—nothing living or dead\, angelic or demonic\, today or tomorrow\, high or low\, thinkable or unthinkable—absolutely nothing can get between us and God’s love.” – Apostle Paul (Romans 8:38-39) \nOn this final Sunday before Christmas\, we sit with the staggering truth that Love prevails. Not because we are strong or rested or ready or deserving\, but simply because we are beloved and God is faithful to God’s promises. \nLove didn’t send instructions from heaven—it came down\, took on flesh\, and moved into the neighborhood. Your belovedness is not tied to your productivity or performance. \nJoin us on Sunday for a time of reflection\, encouragement\, and hope. \nMorning tea will be served following the service. \nAll welcome.
URL:https://ivanhoebaptist.org.au/event/love-came-down-sunday10am/
LOCATION:Ivanhoe Baptist Church\, 1 Livingstone Street\, IVANHOE\, VIC\, 3079\, Australia
ATTACH;FMTTYPE=image/jpeg:https://ivanhoebaptist.org.au/gem/wp-content/uploads/2025/12/2025-12-21-Advent-4-Love.jpg
ORGANIZER;CN="Ivanhoe Baptist Church":MAILTO:info@ivanhoebaptist.org.au
END:VEVENT
BEGIN:VEVENT
DTSTART;TZID=Australia/Melbourne:20251224T190000
DTEND;TZID=Australia/Melbourne:20251224T200000
DTSTAMP:20260425T094654
CREATED:20251220T104219Z
LAST-MODIFIED:20251220T104219Z
UID:38498-1766602800-1766606400@ivanhoebaptist.org.au
SUMMARY:Christmas Eve Carols Service and Supper - Wednesday 24th @ 7pm
DESCRIPTION:Join us for our special Christmas Eve carols service for all the family. \nWe’ll read the Christmas story\, sing carols\, and remember that the Light of the World came for all people—especially the weary ones\, the worn-out ones\, the ones who whisper “I’m so tired.” \nThis service creates space for wonder\, rest\, and worship as we prepare our hearts for Christmas morning. \nA festive supper will be served after the service. \nFamilies with children welcome.
URL:https://ivanhoebaptist.org.au/event/christmas-eve-carols-service-and-supper-wednesday-24th-7pm/
LOCATION:Ivanhoe Baptist Church\, 1 Livingstone Street\, IVANHOE\, VIC\, 3079\, Australia
ATTACH;FMTTYPE=image/jpeg:https://ivanhoebaptist.org.au/gem/wp-content/uploads/2025/12/2025-12-24-Christmas-Eve-Light-of-the-World.jpg
ORGANIZER;CN="Ivanhoe Baptist Church":MAILTO:info@ivanhoebaptist.org.au
END:VEVENT
BEGIN:VEVENT
DTSTART;TZID=Australia/Melbourne:20251228T100000
DTEND;TZID=Australia/Melbourne:20251228T113000
DTSTAMP:20260425T094654
CREATED:20251224T033728Z
LAST-MODIFIED:20251224T033916Z
UID:38501-1766916000-1766921400@ivanhoebaptist.org.au
SUMMARY:From the Story to the Road - Sunday @ 10am
DESCRIPTION:In the space between Christmas and New Year\, we pause to reflect. The angels have announced\, the shepherds have visited\, the wise men are still journeying. We find ourselves in the in-between. \nThis Sunday offers space to process\, reflect\, and listen. What has this Christmas and Advent season stirred in you? What are you carrying into the new year? Join us for an informal service that makes room for your story to intersect with God’s story. \nWe will be meeting in our Livingstone Community Centre Hall. Morning tea will be served. All welcome.
URL:https://ivanhoebaptist.org.au/event/from-the-story-to-the-road-sunday-10am/
LOCATION:Livingstone Community Centre\, 1 Livingstone Street\, IVANHOE\, VIC\, 3079\, Australia
ATTACH;FMTTYPE=image/jpeg:https://ivanhoebaptist.org.au/gem/wp-content/uploads/2025/12/2025-12-28-The-story-Continues.jpg
ORGANIZER;CN="Ivanhoe Baptist Church":MAILTO:info@ivanhoebaptist.org.au
END:VEVENT
END:VCALENDAR