BEGIN:VCALENDAR
VERSION:2.0
PRODID:-//Ivanhoe Baptist Community - ECPv6.15.20//NONSGML v1.0//EN
CALSCALE:GREGORIAN
METHOD:PUBLISH
X-WR-CALNAME:Ivanhoe Baptist Community
X-ORIGINAL-URL:https://ivanhoebaptist.org.au
X-WR-CALDESC:Events for Ivanhoe Baptist Community
REFRESH-INTERVAL;VALUE=DURATION:PT1H
X-Robots-Tag:noindex
X-PUBLISHED-TTL:PT1H
BEGIN:VTIMEZONE
TZID:Australia/Melbourne
BEGIN:STANDARD
TZOFFSETFROM:+1100
TZOFFSETTO:+1000
TZNAME:AEST
DTSTART:20240406T160000
END:STANDARD
BEGIN:DAYLIGHT
TZOFFSETFROM:+1000
TZOFFSETTO:+1100
TZNAME:AEDT
DTSTART:20241005T160000
END:DAYLIGHT
BEGIN:STANDARD
TZOFFSETFROM:+1100
TZOFFSETTO:+1000
TZNAME:AEST
DTSTART:20250405T160000
END:STANDARD
BEGIN:DAYLIGHT
TZOFFSETFROM:+1000
TZOFFSETTO:+1100
TZNAME:AEDT
DTSTART:20251004T160000
END:DAYLIGHT
BEGIN:STANDARD
TZOFFSETFROM:+1100
TZOFFSETTO:+1000
TZNAME:AEST
DTSTART:20260404T160000
END:STANDARD
BEGIN:DAYLIGHT
TZOFFSETFROM:+1000
TZOFFSETTO:+1100
TZNAME:AEDT
DTSTART:20261003T160000
END:DAYLIGHT
END:VTIMEZONE
BEGIN:VEVENT
DTSTART;TZID=Australia/Melbourne:20250202T100000
DTEND;TZID=Australia/Melbourne:20250202T113000
DTSTAMP:20260426T015112
CREATED:20250131T024553Z
LAST-MODIFIED:20250131T024553Z
UID:38276-1738490400-1738495800@ivanhoebaptist.org.au
SUMMARY:Blessed are Who?
DESCRIPTION:Introducing his famous Sermon on the Mount\, Jesus reveals nine surprising paths to living in God’s way. Join us this Sunday as we discover Jesus’ simple but powerful words about who is really blessed. \nWe’ll share in the Lord’s Supper together\, then gather for morning tea afterwards. Everyone is welcome!
URL:https://ivanhoebaptist.org.au/event/blessed-are-who/
LOCATION:Ivanhoe Baptist Church\, 1 Livingstone Street\, IVANHOE\, VIC\, 3079\, Australia
ATTACH;FMTTYPE=image/jpeg:https://ivanhoebaptist.org.au/gem/wp-content/uploads/2025/01/2025-02-02-Ninefold-Path-.jpg
ORGANIZER;CN="Ivanhoe Baptist Church":MAILTO:info@ivanhoebaptist.org.au
END:VEVENT
BEGIN:VEVENT
DTSTART;TZID=Australia/Melbourne:20250223T100000
DTEND;TZID=Australia/Melbourne:20250223T113000
DTSTAMP:20260426T015112
CREATED:20250211T071353Z
LAST-MODIFIED:20250218T043650Z
UID:38290-1740304800-1740310200@ivanhoebaptist.org.au
SUMMARY:Mosaic Combined Service - this Sunday - we are meeting at West Preston Baptist Church
DESCRIPTION:Join us for the first Mosaic Combined Churches Service for 2025. Ivanhoe\, Regent\, Rosanna and West Preston Baptist Churches combine on West Preston’s site to celebrate and worship God together. \nOur guest speakers will be Jayden and Mikyla Battey from Baptist World Aid Australia and Servants Community Housing who will be unpacking Jesus’ “Great Invitation”. \nMorning Tea will be served after the service and all are welcome. \nThe service will be live streamed on ZOOM. Contact West Preston Baptist for the link. \nNOTE: there will be no service at Ivanhoe Baptist Church on this day.
URL:https://ivanhoebaptist.org.au/event/mosaic-combined-service-2/
LOCATION:West Preston Baptist Church\, 108A Cramer Street\, PRESTON\, VIC\, 3072\, Australia
ATTACH;FMTTYPE=image/jpeg:https://ivanhoebaptist.org.au/gem/wp-content/uploads/2025/02/Mosaic.jpg
END:VEVENT
END:VCALENDAR