BEGIN:VCALENDAR
VERSION:2.0
PRODID:-//Ivanhoe Baptist Community - ECPv6.15.20//NONSGML v1.0//EN
CALSCALE:GREGORIAN
METHOD:PUBLISH
X-ORIGINAL-URL:https://ivanhoebaptist.org.au
X-WR-CALDESC:Events for Ivanhoe Baptist Community
REFRESH-INTERVAL;VALUE=DURATION:PT1H
X-Robots-Tag:noindex
X-PUBLISHED-TTL:PT1H
BEGIN:VTIMEZONE
TZID:Australia/Melbourne
BEGIN:STANDARD
TZOFFSETFROM:+1100
TZOFFSETTO:+1000
TZNAME:AEST
DTSTART:20230401T160000
END:STANDARD
BEGIN:DAYLIGHT
TZOFFSETFROM:+1000
TZOFFSETTO:+1100
TZNAME:AEDT
DTSTART:20230930T160000
END:DAYLIGHT
BEGIN:STANDARD
TZOFFSETFROM:+1100
TZOFFSETTO:+1000
TZNAME:AEST
DTSTART:20240406T160000
END:STANDARD
BEGIN:DAYLIGHT
TZOFFSETFROM:+1000
TZOFFSETTO:+1100
TZNAME:AEDT
DTSTART:20241005T160000
END:DAYLIGHT
BEGIN:STANDARD
TZOFFSETFROM:+1100
TZOFFSETTO:+1000
TZNAME:AEST
DTSTART:20250405T160000
END:STANDARD
BEGIN:DAYLIGHT
TZOFFSETFROM:+1000
TZOFFSETTO:+1100
TZNAME:AEDT
DTSTART:20251004T160000
END:DAYLIGHT
END:VTIMEZONE
BEGIN:VEVENT
DTSTART;TZID=Australia/Melbourne:20241201T100000
DTEND;TZID=Australia/Melbourne:20241201T113000
DTSTAMP:20260426T015328
CREATED:20241129T094756Z
LAST-MODIFIED:20241129T094756Z
UID:38218-1733047200-1733052600@ivanhoebaptist.org.au
SUMMARY:Advent week 1 - Preparation - subverting anxiety with hope - Sunday@10am
DESCRIPTION:Welcome to our Advent Series: O Come Let Us Adore Christ the Lord. Advent is a four-week season preceding Christmas. It is an opportunity to remember\, reflect and prepare in light of the arrival of Jesus Christ first as a baby at Christmas and anticipating Christ return at the end of time. Each week of Advent focuses on a different theme—hope\, peace\, joy\, and love—celebrated by Christians around the world. \nIn this first week of Advent\, we advance the process of preparation by considering how we might subvert anxiety with hope. \nYou’re invited to join us. The Lord’s Supper (Communion) will be celebrated during the service and refreshments will be served afterwards.
URL:https://ivanhoebaptist.org.au/event/advent-week-1-preparation-subverting-anxiety-with-hope-sunday10am/
LOCATION:Ivanhoe Baptist Church\, 1 Livingstone Street\, IVANHOE\, VIC\, 3079\, Australia
ATTACH;FMTTYPE=image/jpeg:https://ivanhoebaptist.org.au/gem/wp-content/uploads/2024/11/1.jpg
ORGANIZER;CN="Ivanhoe Baptist Church":MAILTO:info@ivanhoebaptist.org.au
END:VEVENT
BEGIN:VEVENT
DTSTART;TZID=Australia/Melbourne:20241203T193000
DTEND;TZID=Australia/Melbourne:20241203T210000
DTSTAMP:20260426T015328
CREATED:20241130T014421Z
LAST-MODIFIED:20241130T015528Z
UID:38221-1733254200-1733259600@ivanhoebaptist.org.au
SUMMARY:2024 Annual Advent McKinney Lecture
DESCRIPTION:Banyule Churches Together invites you to our 2024 Annual Advent McKinney Lecture\nTitle:  If faith can move mountains\, why haven’t we moved beyond gendered violence and homelessness? \nSpeakers: \nFelicity Rorke – Executive Director of the Good Samaritan Inn. Chair of the Catholic Social Services Domestic Violence Working Group \nJoshua Lourensz – Executive Director Catholic Social Services \nRefreshments will be served following the presentations. \nAll Welcome \nThe McKinney Lectures\nRev. Dr. Richard McKinney\, born in 1938\, was a distinguished theologian and ecumenist who passed away on November 20\, 1996. He was known for his profound insights into the doctrine of the Triune God and his commitment to ecumenism\, bringing together diverse Christian traditions. Dr. McKinney served as the Director of Trinity Theological School until his retirement in August 1996. For over 20 years the Churches of East Ivanhoe\, Ivanhoe\, Heidelberg and Rosanna have been hosting an annual ecumenical Advent and Lenten lecture series in memory of Dick McKinney. Dick was a passionate ecumenist renowned for his intellect\, imagination and sharp wit. Over these past two decades and more\, a diverse range of men and women representing the breadth of Christian thought and experience have spoken in his memory.
URL:https://ivanhoebaptist.org.au/event/2024-annual-advent-mckinney-lecture/
LOCATION:Ivanhoe Uniting Church\, 15 Seddon Street\, Ivanhoe\, VIC\, 3079\, Australia
ATTACH;FMTTYPE=image/jpeg:https://ivanhoebaptist.org.au/gem/wp-content/uploads/2024/11/McKinney-Lecture.jpg
ORGANIZER;CN="Banyule Churches Together":MAILTO:ivanhoe@cam.org.au
END:VEVENT
BEGIN:VEVENT
DTSTART;TZID=Australia/Melbourne:20241207T100000
DTEND;TZID=Australia/Melbourne:20241207T150000
DTSTAMP:20260426T015328
CREATED:20241130T021415Z
LAST-MODIFIED:20241130T021415Z
UID:38229-1733565600-1733583600@ivanhoebaptist.org.au
SUMMARY:Ivanhoe Makers Market
DESCRIPTION:The Ivanhoe Makers Market is sponsored by the Livingstone Community Centre. This indoor market showcases the creations of talented\, local artists and crafts people. \nAll Welcome
URL:https://ivanhoebaptist.org.au/event/ivanhoe-makers-market/
LOCATION:Livingstone Community Centre\, 1 Livingstone Street\, IVANHOE\, VIC\, 3079\, Australia
ATTACH;FMTTYPE=image/jpeg:https://ivanhoebaptist.org.au/gem/wp-content/uploads/2024/11/Makers-Market.jpg
ORGANIZER;CN="Livingstone Community Centre":MAILTO:community@livingstone.org.au
END:VEVENT
BEGIN:VEVENT
DTSTART;TZID=Australia/Melbourne:20241208T100000
DTEND;TZID=Australia/Melbourne:20241208T113000
DTSTAMP:20260426T015328
CREATED:20241203T111843Z
LAST-MODIFIED:20241203T112912Z
UID:38235-1733652000-1733657400@ivanhoebaptist.org.au
SUMMARY:Advent week 2 - Passion - propagate a passion for peace - Sunday@10am
DESCRIPTION:Welcome to our Advent Series: O Come Let Us Adore Christ the Lord. In this second week of Advent\, we consider how we might develop a passion for peace. \nYou’re invited to join us. Following the service lunch will be served. \nAdvent is a four-week season preceding Christmas. It is an opportunity to remember\, reflect and prepare in light of the arrival of Jesus Christ first as a baby at Christmas and anticipating Christ return at the end of time. Each week of Advent focuses on a different theme—hope\, peace\, joy\, and love—celebrated by Christians around the world.
URL:https://ivanhoebaptist.org.au/event/advent-week-2-a-passion-for-peace-sunday10am/
LOCATION:Ivanhoe Baptist Church\, 1 Livingstone Street\, IVANHOE\, VIC\, 3079\, Australia
ATTACH;FMTTYPE=image/jpeg:https://ivanhoebaptist.org.au/gem/wp-content/uploads/2024/12/2.jpg
ORGANIZER;CN="Ivanhoe Baptist Church":MAILTO:info@ivanhoebaptist.org.au
END:VEVENT
BEGIN:VEVENT
DTSTART;TZID=Australia/Melbourne:20241211T120000
DTEND;TZID=Australia/Melbourne:20241211T130000
DTSTAMP:20260426T015328
CREATED:20240505T082639Z
LAST-MODIFIED:20241208T042507Z
UID:37995-1733918400-1733922000@ivanhoebaptist.org.au
SUMMARY:Community Lunch - Wednesdays @ 12 Noon (Weekly)
DESCRIPTION:We are delighted to extend an invitation to you for our weekly Community Lunch at the Livingstone Community Centre. \nWhen: Every Wednesday Time: 12:00 PM – 1:00 PM \nCome and savor the delicious dishes prepared with care by Ralph and the dedicated team of volunteers. Whether you’re a regular attendee or new to the area\, we welcome you. \nThis lunch is not just about the food on the plate\, but also about the friendly faces around the table. It’s an opportunity to meet new friends\, catch up with neighbors\, and be part of the wonderful tapestry that makes our community so special. \nPlease RSVP by the Tuesday (am) before the lunch you wish to attend\, so we can ensure there’s plenty of food to go around!
URL:https://ivanhoebaptist.org.au/event/community-lunch-wednesdays-12-noon/
LOCATION:Livingstone Community Centre\, 1 Livingstone Street\, IVANHOE\, VIC\, 3079\, Australia
ATTACH;FMTTYPE=image/jpeg:https://ivanhoebaptist.org.au/gem/wp-content/uploads/2024/05/Community-Lunch-e1714961892422.jpg
ORGANIZER;CN="Livingstone Community Centre":MAILTO:community@livingstone.org.au
END:VEVENT
BEGIN:VEVENT
DTSTART;TZID=Australia/Melbourne:20241215T100000
DTEND;TZID=Australia/Melbourne:20241215T113000
DTSTAMP:20260426T015328
CREATED:20241208T042533Z
LAST-MODIFIED:20241208T043428Z
UID:38239-1734256800-1734262200@ivanhoebaptist.org.au
SUMMARY:Advent week 3 - The Presence of Joy and the Joy of Presence - Sunday@10am
DESCRIPTION:Welcome to our Advent Series: O Come Let Us Adore Christ the Lord. In this third week of Advent\, we consider the connection between joy and presence. \nYou’re invited to join us. \nAdvent is a four-week season preceding Christmas. It is an opportunity to remember\, reflect and prepare in light of the arrival of Jesus Christ first as a baby at Christmas and anticipating Christ return at the end of time. Each week of Advent focuses on a different theme—hope\, peace\, joy\, and love—celebrated by Christians around the world.
URL:https://ivanhoebaptist.org.au/event/advent-week-3-presence-of-joy-sunday10am/
LOCATION:Ivanhoe Baptist Church\, 1 Livingstone Street\, IVANHOE\, VIC\, 3079\, Australia
ATTACH;FMTTYPE=image/jpeg:https://ivanhoebaptist.org.au/gem/wp-content/uploads/2024/12/3.jpg
ORGANIZER;CN="Ivanhoe Baptist Church":MAILTO:info@ivanhoebaptist.org.au
END:VEVENT
BEGIN:VEVENT
DTSTART;TZID=Australia/Melbourne:20241222T100000
DTEND;TZID=Australia/Melbourne:20241222T113000
DTSTAMP:20260426T015328
CREATED:20241216T024753Z
LAST-MODIFIED:20241216T215543Z
UID:38251-1734861600-1734867000@ivanhoebaptist.org.au
SUMMARY:Advent week 4 - Love - Living the Promise of God - Sunday@10am
DESCRIPTION:Welcome to our Advent Series: O Come Let Us Adore Christ the Lord. In this fourth week of Advent\, we are reminded that love is not simply a feeling\, a thought\, or a dream\, but rather a living promise enacted by God each day. \nYou’re invited to join us. \nAdvent is a four-week season preceding Christmas. It is an opportunity to remember\, reflect and prepare in light of the arrival of Jesus Christ first as a baby at Christmas and anticipating Christ return at the end of time. Each week of Advent focuses on a different theme—hope\, peace\, joy\, and love—celebrated by Christians around the world.
URL:https://ivanhoebaptist.org.au/event/advent-week-4-love-sunday10am/
LOCATION:Ivanhoe Baptist Church\, 1 Livingstone Street\, IVANHOE\, VIC\, 3079\, Australia
ATTACH;FMTTYPE=image/jpeg:https://ivanhoebaptist.org.au/gem/wp-content/uploads/2024/12/4.jpg
ORGANIZER;CN="Ivanhoe Baptist Church":MAILTO:info@ivanhoebaptist.org.au
END:VEVENT
BEGIN:VEVENT
DTSTART;TZID=Australia/Melbourne:20241224T170000
DTEND;TZID=Australia/Melbourne:20241224T200000
DTSTAMP:20260426T015328
CREATED:20241208T091944Z
LAST-MODIFIED:20241208T093418Z
UID:38243-1735059600-1735070400@ivanhoebaptist.org.au
SUMMARY:Christmas Eve @ Ivanhoe Baptist Church - an invitation to all
DESCRIPTION:You are invited to Celebrate Christmas with us\nChristmas Eve\nEnjoy a welcoming and relaxed evening with food\, conversation\, music\, Carol singing\, and drama. Take a moment in the bustle of the season\, to celebrate\, reflect\, and ponder the precious events at the heart of Christmas. \nTuesday 24th December\n5.00pm Community Sausage Sizzle in the Livingstone Community Centre Hall \n6.30pm Christmas Celebration Service \nfollowed by dessert\, coffee and refreshments \nActivities for children will be provided \nAll Welcome
URL:https://ivanhoebaptist.org.au/event/christmas-eve-ivanhoe-baptist-church-an-invitation-to-all/
LOCATION:Ivanhoe Baptist Church\, 1 Livingstone Street\, IVANHOE\, VIC\, 3079\, Australia
ATTACH;FMTTYPE=image/jpeg:https://ivanhoebaptist.org.au/gem/wp-content/uploads/2024/12/Christmas-Eve-Wallpaper.jpg
ORGANIZER;CN="Ivanhoe Baptist Church":MAILTO:info@ivanhoebaptist.org.au
END:VEVENT
END:VCALENDAR