BEGIN:VCALENDAR
VERSION:2.0
PRODID:-//Ivanhoe Baptist Community - ECPv6.15.20//NONSGML v1.0//EN
CALSCALE:GREGORIAN
METHOD:PUBLISH
X-WR-CALNAME:Ivanhoe Baptist Community
X-ORIGINAL-URL:https://ivanhoebaptist.org.au
X-WR-CALDESC:Events for Ivanhoe Baptist Community
REFRESH-INTERVAL;VALUE=DURATION:PT1H
X-Robots-Tag:noindex
X-PUBLISHED-TTL:PT1H
BEGIN:VTIMEZONE
TZID:Australia/Melbourne
BEGIN:STANDARD
TZOFFSETFROM:+1100
TZOFFSETTO:+1000
TZNAME:AEST
DTSTART:20230401T160000
END:STANDARD
BEGIN:DAYLIGHT
TZOFFSETFROM:+1000
TZOFFSETTO:+1100
TZNAME:AEDT
DTSTART:20230930T160000
END:DAYLIGHT
BEGIN:STANDARD
TZOFFSETFROM:+1100
TZOFFSETTO:+1000
TZNAME:AEST
DTSTART:20240406T160000
END:STANDARD
BEGIN:DAYLIGHT
TZOFFSETFROM:+1000
TZOFFSETTO:+1100
TZNAME:AEDT
DTSTART:20241005T160000
END:DAYLIGHT
BEGIN:STANDARD
TZOFFSETFROM:+1100
TZOFFSETTO:+1000
TZNAME:AEST
DTSTART:20250405T160000
END:STANDARD
BEGIN:DAYLIGHT
TZOFFSETFROM:+1000
TZOFFSETTO:+1100
TZNAME:AEDT
DTSTART:20251004T160000
END:DAYLIGHT
END:VTIMEZONE
BEGIN:VEVENT
DTSTART;TZID=Australia/Melbourne:20240707T100000
DTEND;TZID=Australia/Melbourne:20240707T110000
DTSTAMP:20260426T081604
CREATED:20240627T034439Z
LAST-MODIFIED:20240627T034611Z
UID:38084-1720346400-1720350000@ivanhoebaptist.org.au
SUMMARY:School Holiday Worship II
DESCRIPTION:Winter has arrived\, school holidays are here\, and it’s wonderful to be together. \nWe will gather on Sundays @ 10am in the Livingstone Community Centre Hall\, adjacent to our chapel. \nYou are invited to join us in a warm\, relaxed\, and welcoming environment to celebrate life and faith together. \nTheme: Food for the Soul – tucking into the Bible \nA three-week exploration of what is the Bible\, how read it\, and how to live in the light of it. \nJune 30:  The Bible: what’s on the menu\nJuly 7:  The Bible: reading the menu. (Communion will be celebrated)\nJuly 14:  The Bible: savouring the meal. (Including Lunch together)
URL:https://ivanhoebaptist.org.au/event/school-holiday-worship-ii/
LOCATION:Livingstone Community Centre\, 1 Livingstone Street\, IVANHOE\, VIC\, 3079\, Australia
ATTACH;FMTTYPE=image/jpeg:https://ivanhoebaptist.org.au/gem/wp-content/uploads/2024/06/Tucking-into-the-Bible-this-winter.jpg
ORGANIZER;CN="Ivanhoe Baptist Church":MAILTO:info@ivanhoebaptist.org.au
END:VEVENT
BEGIN:VEVENT
DTSTART;TZID=Australia/Melbourne:20240714T100000
DTEND;TZID=Australia/Melbourne:20240714T113000
DTSTAMP:20260426T081604
CREATED:20240627T034642Z
LAST-MODIFIED:20240627T034757Z
UID:38087-1720951200-1720956600@ivanhoebaptist.org.au
SUMMARY:School Holiday Worship III
DESCRIPTION:Winter has arrived\, school holidays are here\, and it’s wonderful to be together. \nWe will gather on Sundays @ 10am in the Livingstone Community Centre Hall\, adjacent to our chapel. \nYou are invited to join us in a warm\, relaxed\, and welcoming environment to celebrate life and faith together. \nTheme: Food for the Soul – tucking into the Bible \nA three-week exploration of what is the Bible\, how read it\, and how to live in the light of it. \nJune 30:  The Bible: what’s on the menu\nJuly 7:  The Bible: reading the menu. (Communion will be celebrated)\nJuly 14:  The Bible: savouring the meal. (Including Lunch together)
URL:https://ivanhoebaptist.org.au/event/school-holiday-worship-iii/
LOCATION:Livingstone Community Centre\, 1 Livingstone Street\, IVANHOE\, VIC\, 3079\, Australia
ATTACH;FMTTYPE=image/jpeg:https://ivanhoebaptist.org.au/gem/wp-content/uploads/2024/06/Tucking-into-the-Bible-this-winter.jpg
ORGANIZER;CN="Ivanhoe Baptist Church":MAILTO:info@ivanhoebaptist.org.au
END:VEVENT
BEGIN:VEVENT
DTSTART;TZID=Australia/Melbourne:20240717T120000
DTEND;TZID=Australia/Melbourne:20240717T130000
DTSTAMP:20260426T081604
CREATED:20240716T065714Z
LAST-MODIFIED:20240716T065917Z
UID:38137-1721217600-1721221200@ivanhoebaptist.org.au
SUMMARY:Community Lunch - Wednesdays @ 12 Noon
DESCRIPTION:We extend a very warm invitation to you for our weekly Community Lunch at the Livingstone Community Centre. \nWhen: Every Wednesday Time: 12:00 PM – 1:00 PM \nCome and savor the delicious dishes prepared with care by Ralph and the dedicated team of volunteers. Whether you’re a regular attendee or new to the area\, we welcome you. \nThis lunch is not just about the food on the plate\, but also about the friendly faces around the table. It’s an opportunity to meet new friends\, catch up with neighbors\, and be part of the wonderful tapestry that makes our community so special. \nPlease RSVP by the Tuesday (am) before the lunch you wish to attend\, so we can ensure there’s plenty of food to go around!
URL:https://ivanhoebaptist.org.au/event/community-lunch-wednesdays-0717/
LOCATION:Livingstone Community Centre\, 1 Livingstone Street\, IVANHOE\, VIC\, 3079\, Australia
ATTACH;FMTTYPE=image/jpeg:https://ivanhoebaptist.org.au/gem/wp-content/uploads/2024/05/Community-Lunch-e1714961892422.jpg
ORGANIZER;CN="Livingstone Community Centre":MAILTO:community@livingstone.org.au
END:VEVENT
BEGIN:VEVENT
DTSTART;TZID=Australia/Melbourne:20240721T100000
DTEND;TZID=Australia/Melbourne:20240721T113000
DTSTAMP:20260426T081604
CREATED:20240717T052042Z
LAST-MODIFIED:20240717T052206Z
UID:38140-1721556000-1721561400@ivanhoebaptist.org.au
SUMMARY:Sunday @ 10am - Bridging the Gap I - Identifying Our Expectation Gaps
DESCRIPTION:Many people experience a gap between their beliefs about God and their daily experiences. This “expectation gap” is a common challenge in the journey of faith. \n\nBelieving in God’s love without feeling it\nTrusting God’s presence without seeing it\nAnticipating more progress in our spiritual growth\n\nThis week we begin a new series\, The Expectation Gap inspired by the book of the same name\, by Steve Cuss. The series invites you to delve into how you respond to Jesus’ call to live with and for God\, empowered by the Holy Spirit. \nJoin us for the service\, followed by morning tea. Everyone is welcome.
URL:https://ivanhoebaptist.org.au/event/sunday-10am-bridging-the-gap-i-understanding-our-expectation-gaps/
LOCATION:Ivanhoe Baptist Church\, 1 Livingstone Street\, IVANHOE\, VIC\, 3079\, Australia
ORGANIZER;CN="Ivanhoe Baptist Church":MAILTO:info@ivanhoebaptist.org.au
END:VEVENT
BEGIN:VEVENT
DTSTART;TZID=Australia/Melbourne:20240728T100000
DTEND;TZID=Australia/Melbourne:20240728T113000
DTSTAMP:20260426T081604
CREATED:20240727T032411Z
LAST-MODIFIED:20240727T041943Z
UID:38146-1722160800-1722166200@ivanhoebaptist.org.au
SUMMARY:Sunday @ 10am - Andy Naylor - singer\, songwriter and church planter
DESCRIPTION:This Sunday we are being led by Andy Naylor from the Baptist Union of Victoria Mission Catalyst Team. Andy is a Church Planter & Church Planting Learning Community Coordinator as well as an accomplished singer and songwriter who loves Jesus. \nJoin us for the service\, followed by morning tea. Everyone is welcome.
URL:https://ivanhoebaptist.org.au/event/sunday-10am-andy_naylor/
LOCATION:Ivanhoe Baptist Church\, 1 Livingstone Street\, IVANHOE\, VIC\, 3079\, Australia
ATTACH;FMTTYPE=image/jpeg:https://ivanhoebaptist.org.au/gem/wp-content/uploads/2024/07/Andy-Naylor-Church-Planter-Church-Planting-Learning-Community-Coordinator.jpg
ORGANIZER;CN="Ivanhoe Baptist Church":MAILTO:info@ivanhoebaptist.org.au
END:VEVENT
END:VCALENDAR