BEGIN:VCALENDAR
VERSION:2.0
PRODID:-//Ivanhoe Baptist Community - ECPv6.15.20//NONSGML v1.0//EN
CALSCALE:GREGORIAN
METHOD:PUBLISH
X-WR-CALNAME:Ivanhoe Baptist Community
X-ORIGINAL-URL:https://ivanhoebaptist.org.au
X-WR-CALDESC:Events for Ivanhoe Baptist Community
REFRESH-INTERVAL;VALUE=DURATION:PT1H
X-Robots-Tag:noindex
X-PUBLISHED-TTL:PT1H
BEGIN:VTIMEZONE
TZID:Australia/Melbourne
BEGIN:STANDARD
TZOFFSETFROM:+1100
TZOFFSETTO:+1000
TZNAME:AEST
DTSTART:20230401T160000
END:STANDARD
BEGIN:DAYLIGHT
TZOFFSETFROM:+1000
TZOFFSETTO:+1100
TZNAME:AEDT
DTSTART:20230930T160000
END:DAYLIGHT
BEGIN:STANDARD
TZOFFSETFROM:+1100
TZOFFSETTO:+1000
TZNAME:AEST
DTSTART:20240406T160000
END:STANDARD
BEGIN:DAYLIGHT
TZOFFSETFROM:+1000
TZOFFSETTO:+1100
TZNAME:AEDT
DTSTART:20241005T160000
END:DAYLIGHT
BEGIN:STANDARD
TZOFFSETFROM:+1100
TZOFFSETTO:+1000
TZNAME:AEST
DTSTART:20250405T160000
END:STANDARD
BEGIN:DAYLIGHT
TZOFFSETFROM:+1000
TZOFFSETTO:+1100
TZNAME:AEDT
DTSTART:20251004T160000
END:DAYLIGHT
END:VTIMEZONE
BEGIN:VEVENT
DTSTART;TZID=Australia/Melbourne:20240505T100000
DTEND;TZID=Australia/Melbourne:20240505T113000
DTSTAMP:20260426T105621
CREATED:20240501T034126Z
LAST-MODIFIED:20240501T075726Z
UID:37980-1714903200-1714908600@ivanhoebaptist.org.au
SUMMARY:Mending - Joining with God in mending a beautiful\, broken world #1
DESCRIPTION:We live in a broken world\, and our lives are testimonies to this brokenness. Yet\, amid this reality\, we find hope. Our mending God doesn’t discard us due to our fractures; instead\, God desires to use us\, broken as we are\, transforming our wounds into wellsprings of empathy and strength. \nJoin us for as we begin to explore God’s invitation to be co-menders of this world. \nThe service will include Communion and will be followed by Morning Tea. \nAll welcome.
URL:https://ivanhoebaptist.org.au/event/mending-joining-with-god-in-mending-a-beautiful-broken-world/
LOCATION:Ivanhoe Baptist Church\, 1 Livingstone Street\, IVANHOE\, VIC\, 3079\, Australia
ATTACH;FMTTYPE=image/jpeg:https://ivanhoebaptist.org.au/gem/wp-content/uploads/2024/05/2024-05-05-BMA-Mending-1.jpg
ORGANIZER;CN="Ivanhoe Baptist Church":MAILTO:info@ivanhoebaptist.org.au
END:VEVENT
BEGIN:VEVENT
DTSTART;TZID=Australia/Melbourne:20240512T100000
DTEND;TZID=Australia/Melbourne:20240512T120000
DTSTAMP:20260426T105621
CREATED:20240501T080207Z
LAST-MODIFIED:20240501T080810Z
UID:37985-1715508000-1715515200@ivanhoebaptist.org.au
SUMMARY:Mending - Joining with God in mending a beautiful\, broken world #2
DESCRIPTION:Through modelling the words\, ways and works of Jesus in our relationships\, we actively participate in God’s mending work within our broken world. Co-menders live as credible witnesses to Jesus\, building relationships and sharing stories of hope and transformation. \nJoin us as we reflect on how we can live as credible witnesses to Jesus in our local neighbourhoods. \nA light lunch will be served after the service. \nAll welcome.
URL:https://ivanhoebaptist.org.au/event/mending-joining-with-god-in-mending-a-beautiful-broken-world-2/
LOCATION:Ivanhoe Baptist Church\, 1 Livingstone Street\, IVANHOE\, VIC\, 3079\, Australia
ATTACH;FMTTYPE=image/jpeg:https://ivanhoebaptist.org.au/gem/wp-content/uploads/2024/05/2024-05-12-BMA-Mending-2.jpg
ORGANIZER;CN="Ivanhoe Baptist Church":MAILTO:info@ivanhoebaptist.org.au
END:VEVENT
BEGIN:VEVENT
DTSTART;TZID=Australia/Melbourne:20240515T120000
DTEND;TZID=Australia/Melbourne:20240515T130000
DTSTAMP:20260426T105621
CREATED:20240506T023956Z
LAST-MODIFIED:20240506T024029Z
UID:38005-1715774400-1715778000@ivanhoebaptist.org.au
SUMMARY:Community Lunch - Wednesdays @ 12 Noon
DESCRIPTION:We are thrilled to extend an invitation to you for our weekly Community Lunch at the Livingstone Community Centre. \nWhen: Every Wednesday Time: 12:00 PM – 1:00 PM \nCome and savor the delicious dishes prepared with care by Ralph and the dedicated team of volunteers. Whether you’re a regular attendee or new to the area\, we welcome you. \nThis lunch is not just about the food on the plate\, but also about the friendly faces around the table. It’s an opportunity to meet new friends\, catch up with neighbors\, and be part of the wonderful tapestry that makes our community so special. \nPlease RSVP by the Tuesday (am) before the lunch you wish to attend\, so we can ensure there’s plenty of food to go around!
URL:https://ivanhoebaptist.org.au/event/community-lunch-wednesdays-12-noon-copy/
LOCATION:Livingstone Community Centre\, 1 Livingstone Street\, IVANHOE\, VIC\, 3079\, Australia
ATTACH;FMTTYPE=image/jpeg:https://ivanhoebaptist.org.au/gem/wp-content/uploads/2024/05/Community-Lunch-e1714961892422.jpg
ORGANIZER;CN="Livingstone Community Centre":MAILTO:community@livingstone.org.au
END:VEVENT
BEGIN:VEVENT
DTSTART;TZID=Australia/Melbourne:20240519T100000
DTEND;TZID=Australia/Melbourne:20240519T113000
DTSTAMP:20260426T105621
CREATED:20240424T045509Z
LAST-MODIFIED:20240504T071922Z
UID:37974-1716112800-1716118200@ivanhoebaptist.org.au
SUMMARY:Mosaic Combined Church Service
DESCRIPTION:You are invited to join us on Sunday 19 May @ 10am for our next Mosaic Combined Service as we celebrate the festival of Pentecost together. \nIvanhoe\, Regent\, Rosanna and West Preston Baptist Churches will be gathering at West Preston Baptist Church\, (Corner of Cramer St and Gilbert Rd) 108A Cramer St\, Preston for a morning of worship\, inspiration\, reflection and celebration. \nOur guest Speaker is the Rev Dr Frank Rees – Associate Professor in the University of Divinity\, former Principal of Whitley College\, Member of the Baptist World Alliance Commission International Commission on Doctrine and Christian Unity\, and Pastor. The service will be followed by morning tea. \n𝗔𝗹𝗹 𝘄𝗲𝗹𝗰𝗼𝗺𝗲. \nThe service will also be live streamed on ZOOM using West Preston Baptist’s usual ZOOM feed. For details on how to join Zoom\, feel free to get in touch with Paul Huglin at contact@wpbc.org.au or 0491 100 531. \nPlease Note: There will be no service at Ivanhoe Baptist Church that day.
URL:https://ivanhoebaptist.org.au/event/mosaic-combined-church-service-2/
LOCATION:West Preston Baptist Church\, 108A Cramer Street\, PRESTON\, VIC\, 3072\, Australia
ATTACH;FMTTYPE=image/jpeg:https://ivanhoebaptist.org.au/gem/wp-content/uploads/2024/04/Mosaic-W-Pres-2024-May.jpg
END:VEVENT
BEGIN:VEVENT
DTSTART;TZID=Australia/Melbourne:20240522T120000
DTEND;TZID=Australia/Melbourne:20240522T130000
DTSTAMP:20260426T105621
CREATED:20240506T024151Z
LAST-MODIFIED:20240506T024212Z
UID:38007-1716379200-1716382800@ivanhoebaptist.org.au
SUMMARY:Community Lunch - Wednesdays @ 12 Noon
DESCRIPTION:We are thrilled to extend an invitation to you for our weekly Community Lunch at the Livingstone Community Centre. \nWhen: Every Wednesday Time: 12:00 PM – 1:00 PM \nCome and savor the delicious dishes prepared with care by Ralph and the dedicated team of volunteers. Whether you’re a regular attendee or new to the area\, we welcome you. \nThis lunch is not just about the food on the plate\, but also about the friendly faces around the table. It’s an opportunity to meet new friends\, catch up with neighbors\, and be part of the wonderful tapestry that makes our community so special. \nPlease RSVP by the Tuesday (am) before the lunch you wish to attend\, so we can ensure there’s plenty of food to go around!
URL:https://ivanhoebaptist.org.au/event/community-lunch-wednesdays-12-noon-copy-copy/
LOCATION:Livingstone Community Centre\, 1 Livingstone Street\, IVANHOE\, VIC\, 3079\, Australia
ATTACH;FMTTYPE=image/jpeg:https://ivanhoebaptist.org.au/gem/wp-content/uploads/2024/05/Community-Lunch-e1714961892422.jpg
ORGANIZER;CN="Livingstone Community Centre":MAILTO:community@livingstone.org.au
END:VEVENT
BEGIN:VEVENT
DTSTART;TZID=Australia/Melbourne:20240526T100000
DTEND;TZID=Australia/Melbourne:20240526T113000
DTSTAMP:20260426T105621
CREATED:20240505T071245Z
LAST-MODIFIED:20240505T072648Z
UID:37991-1716717600-1716723000@ivanhoebaptist.org.au
SUMMARY:Mending - Joining with God in mending a beautiful\, broken world #3
DESCRIPTION:In Luke 4:14–21\, Jesus announces His mission to bring holistic restoration. As co-menders\, we are called to engage in this mission by responding to the brokenness and injustice around us and worldwide. God envisions a restored creation—people\, planet and cosmos alike—and invites us to participate in God’s grand\, restorative vision. Join us as we contemplate this vision and how we might respond to God’s invitation to join in. \nMorning tea and refreshments will be served after the service\, followed by our Quarterly Church Meeting.
URL:https://ivanhoebaptist.org.au/event/mending-joining-with-god-in-mending-a-beautiful-broken-world-3/
LOCATION:Ivanhoe Baptist Church\, 1 Livingstone Street\, IVANHOE\, VIC\, 3079\, Australia
ATTACH;FMTTYPE=image/jpeg:https://ivanhoebaptist.org.au/gem/wp-content/uploads/2024/05/2024-05-26-BMA-Mending-3.jpg
ORGANIZER;CN="Ivanhoe Baptist Church":MAILTO:info@ivanhoebaptist.org.au
END:VEVENT
BEGIN:VEVENT
DTSTART;TZID=Australia/Melbourne:20240529T120000
DTEND;TZID=Australia/Melbourne:20240529T130000
DTSTAMP:20260426T105621
CREATED:20240506T024249Z
LAST-MODIFIED:20240506T024316Z
UID:38009-1716984000-1716987600@ivanhoebaptist.org.au
SUMMARY:Community Lunch - Wednesdays @ 12 Noon
DESCRIPTION:We are thrilled to extend an invitation to you for our weekly Community Lunch at the Livingstone Community Centre. \nWhen: Every Wednesday Time: 12:00 PM – 1:00 PM \nCome and savor the delicious dishes prepared with care by Ralph and the dedicated team of volunteers. Whether you’re a regular attendee or new to the area\, we welcome you. \nThis lunch is not just about the food on the plate\, but also about the friendly faces around the table. It’s an opportunity to meet new friends\, catch up with neighbors\, and be part of the wonderful tapestry that makes our community so special. \nPlease RSVP by the Tuesday (am) before the lunch you wish to attend\, so we can ensure there’s plenty of food to go around!
URL:https://ivanhoebaptist.org.au/event/community-lunch-wednesdays-12-noon-copy-copy-copy/
LOCATION:Livingstone Community Centre\, 1 Livingstone Street\, IVANHOE\, VIC\, 3079\, Australia
ATTACH;FMTTYPE=image/jpeg:https://ivanhoebaptist.org.au/gem/wp-content/uploads/2024/05/Community-Lunch-e1714961892422.jpg
ORGANIZER;CN="Livingstone Community Centre":MAILTO:community@livingstone.org.au
END:VEVENT
BEGIN:VEVENT
DTSTART;TZID=Australia/Melbourne:20240530T134500
DTEND;TZID=Australia/Melbourne:20240530T141500
DTSTAMP:20260426T105621
CREATED:20240506T025551Z
LAST-MODIFIED:20240506T025551Z
UID:38011-1717076700-1717078500@ivanhoebaptist.org.au
SUMMARY:BlueCross Ivanhoe Church Service - Baptist
DESCRIPTION:On the 5th Thursday of each month\, Ivanhoe Baptist Church hosts a church service for residents at BlueCross Ivanhoe. Join us at 1:45am in the activities room for singing\, time for prayer\, an encouraging reflection from the Bible and a chat. You’re welcome.
URL:https://ivanhoebaptist.org.au/event/bluecross-ivanhoe-church-service-baptist/
LOCATION:BlueCross Ivanhoe\, 250 Waterdale Road\, Ivanhoe\, VIC\, 3079\, Australia
ATTACH;FMTTYPE=image/jpeg:https://ivanhoebaptist.org.au/gem/wp-content/uploads/2024/05/BlueCross-Ivanhoe.jpg
ORGANIZER;CN="Ivanhoe Baptist Church":MAILTO:info@ivanhoebaptist.org.au
END:VEVENT
END:VCALENDAR