BEGIN:VCALENDAR
VERSION:2.0
PRODID:-//Ivanhoe Baptist Community - ECPv6.15.20//NONSGML v1.0//EN
CALSCALE:GREGORIAN
METHOD:PUBLISH
X-WR-CALNAME:Ivanhoe Baptist Community
X-ORIGINAL-URL:https://ivanhoebaptist.org.au
X-WR-CALDESC:Events for Ivanhoe Baptist Community
REFRESH-INTERVAL;VALUE=DURATION:PT1H
X-Robots-Tag:noindex
X-PUBLISHED-TTL:PT1H
BEGIN:VTIMEZONE
TZID:Australia/Melbourne
BEGIN:STANDARD
TZOFFSETFROM:+1100
TZOFFSETTO:+1000
TZNAME:AEST
DTSTART:20220402T160000
END:STANDARD
BEGIN:DAYLIGHT
TZOFFSETFROM:+1000
TZOFFSETTO:+1100
TZNAME:AEDT
DTSTART:20221001T160000
END:DAYLIGHT
BEGIN:STANDARD
TZOFFSETFROM:+1100
TZOFFSETTO:+1000
TZNAME:AEST
DTSTART:20230401T160000
END:STANDARD
BEGIN:DAYLIGHT
TZOFFSETFROM:+1000
TZOFFSETTO:+1100
TZNAME:AEDT
DTSTART:20230930T160000
END:DAYLIGHT
BEGIN:STANDARD
TZOFFSETFROM:+1100
TZOFFSETTO:+1000
TZNAME:AEST
DTSTART:20240406T160000
END:STANDARD
BEGIN:DAYLIGHT
TZOFFSETFROM:+1000
TZOFFSETTO:+1100
TZNAME:AEDT
DTSTART:20241005T160000
END:DAYLIGHT
BEGIN:STANDARD
TZOFFSETFROM:+1100
TZOFFSETTO:+1000
TZNAME:AEST
DTSTART:20250405T160000
END:STANDARD
BEGIN:DAYLIGHT
TZOFFSETFROM:+1000
TZOFFSETTO:+1100
TZNAME:AEDT
DTSTART:20251004T160000
END:DAYLIGHT
END:VTIMEZONE
BEGIN:VEVENT
DTSTART;TZID=Australia/Melbourne:20240225T100000
DTEND;TZID=Australia/Melbourne:20240225T120000
DTSTAMP:20260426T023544
CREATED:20240307T035900Z
LAST-MODIFIED:20240307T045832Z
UID:37623-1708855200-1708862400@ivanhoebaptist.org.au
SUMMARY:Mosaic Combined Church Service
DESCRIPTION:You are invited to join us on 𝗦𝘂𝗻𝗱𝗮𝘆 𝟮𝟱 𝗙𝗲𝗯𝗿𝘂𝗮𝗿𝘆 𝗮𝘁 𝟭𝟬𝗮𝗺 for our next Mosaic Combined Service.\n\nIvanhoe\, Regent\, Rosanna and West Preston Baptist Churches will be gathering at 𝗥𝗼𝘀𝗮𝗻𝗻𝗮 𝗕𝗮𝗽𝘁𝗶𝘀𝘁 𝗖𝗵𝘂𝗿𝗰𝗵\, 𝟱 𝗪𝗮𝗶𝗼𝗿𝗮 𝗥𝗼𝗮𝗱\, 𝗛𝗲𝗶𝗱𝗲𝗹𝗯𝗲𝗿𝗴 𝗛𝗲𝗶𝗴𝗵𝘁𝘀 𝗩𝗜𝗖 𝟯𝟬𝟴𝟭 for a morning of worship\, inspiration\, reflection and celebration. The service will be followed by morning tea.\n\n𝗔𝗹𝗹 𝘄𝗲𝗹𝗰𝗼𝗺𝗲.\n\nThe service will also be live streamed on ZOOM (https://us02web.zoom.us/j/83106281582…).\n\nPlease Note: There will be no service at Ivanhoe Baptist Church that day.
URL:https://ivanhoebaptist.org.au/event/mosaic-combined-church-service/
LOCATION:Rosanna Baptist Church\, 5 Waiora Road\, HEIDELBERG HEIGHTS\, VIC\, 3081\, Australia
ATTACH;FMTTYPE=image/jpeg:https://ivanhoebaptist.org.au/gem/wp-content/uploads/2024/03/426126594_404636088889952_1016032217898813787_n-8.jpg
END:VEVENT
BEGIN:VEVENT
DTSTART;TZID=Australia/Melbourne:20231205T193000
DTEND;TZID=Australia/Melbourne:20231205T193000
DTSTAMP:20260426T023544
CREATED:20231101T013023Z
LAST-MODIFIED:20231101T070921Z
UID:37464-1701804600-1701804600@ivanhoebaptist.org.au
SUMMARY:‘Christian Hope in our Contemporary World’ - 2023 Annual McKinney Advent Lecture
DESCRIPTION:A public lecture sponsored by Banyule Churches Together \n‘Christian Hope in our Contemporary World’ \nGuest Lecturer: Cathy Jenkins \nCathy commenced her professional life as a teacher and has worked in a variety of environments including education system leadership in the Dioceses of Melbourne and Sandhurst\, as a publisher and editor and a Diocesan leader of evangelisation and mission in the Archdiocese of Melbourne.  Now working as the Executive Director: Mission Leadership with Mercy Health\, Cathy is also Deputy Chair of the Sandhurst Catholic Early Education and Care Board and the Diocese of Sale Catholic Education Board. Her academic background includes degrees in arts and theology and a master’s degree in leadership. \nThe lecture will be followed by supper and refreshments. \nAll Welcome
URL:https://ivanhoebaptist.org.au/event/christian-hope-in-our-contemporary-world-2023-annual-mckinney-advent-lecture/
LOCATION:Mary Mother of the Church Parish Centre\, 4 Waverley Avenue\, Ivanhoe\, VIC\, 3079\, Australia
ATTACH;FMTTYPE=image/png:https://ivanhoebaptist.org.au/gem/wp-content/uploads/2022/03/Banyule-Churches-Together-e1698817118309.png
ORGANIZER;CN="Banyule Churches Together":MAILTO:ivanhoe@cam.org.au
END:VEVENT
BEGIN:VEVENT
DTSTART;TZID=Australia/Melbourne:20231126T100000
DTEND;TZID=Australia/Melbourne:20231126T100000
DTSTAMP:20260426T023544
CREATED:20231028T033853Z
LAST-MODIFIED:20231031T093315Z
UID:37462-1700992800-1700992800@ivanhoebaptist.org.au
SUMMARY:Alongsiders - People who Partner
DESCRIPTION:Join us for the last week of our four-week series\, Alongsiders. \nThis week: People who Partner \nThe Alongsiders series has been developed by Baptist Mission Australia and encourages us to be people who get alongside others as we share the truth and love of Jesus with the world. \nThe service will be followed by Morning Tea and Refreshments.
URL:https://ivanhoebaptist.org.au/event/alongsiders-people-who-partner/
LOCATION:Ivanhoe Baptist Church\, 1 Livingstone Street\, IVANHOE\, VIC\, 3079\, Australia
ATTACH;FMTTYPE=image/png:https://ivanhoebaptist.org.au/gem/wp-content/uploads/2023/10/Alongsiders-e1698645959784.png
ORGANIZER;CN="Ivanhoe Baptist Church":MAILTO:info@ivanhoebaptist.org.au
END:VEVENT
BEGIN:VEVENT
DTSTART;TZID=Australia/Melbourne:20231119T100000
DTEND;TZID=Australia/Melbourne:20231119T100000
DTSTAMP:20260426T023544
CREATED:20231027T122615Z
LAST-MODIFIED:20231031T103906Z
UID:37444-1700388000-1700388000@ivanhoebaptist.org.au
SUMMARY:Mosaic Combined Service
DESCRIPTION:Join the Ivanhoe\, Regent\, Rosanna and West Preston Baptist Communities when we gather for worship together for our final Mosaic Combined Service for 2023. \nThe theme of the service will be “Christ’s light to the world” (John 1:1-5\, 9) \nMorning tea and refreshments will be served following the service. \nThe TEAR fund Christmas stall will be available. \nAll welcome
URL:https://ivanhoebaptist.org.au/event/mosaic-combined-service/
LOCATION:Regent Baptist Church\, 734 High Street\, RESERVOIR\, VIC\, 3073\, Australia
ATTACH;FMTTYPE=image/jpeg:https://ivanhoebaptist.org.au/gem/wp-content/uploads/2023/09/Regent-Baptist-scaled.jpg
END:VEVENT
BEGIN:VEVENT
DTSTART;TZID=Australia/Melbourne:20231112T100000
DTEND;TZID=Australia/Melbourne:20231112T100000
DTSTAMP:20260426T023544
CREATED:20231028T033618Z
LAST-MODIFIED:20231031T093453Z
UID:37460-1699783200-1699783200@ivanhoebaptist.org.au
SUMMARY:Alongsiders - People of Prayer
DESCRIPTION:Join us for the third week of our four-week series\, Alongsiders. \nThis week: People of Prayer \nThe Alongsiders series has been developed by Baptist Mission Australia and encourages us to be people who get alongside others as we share the truth and love of Jesus with the world. \nMorning Tea and Refreshments will be served after the service and will be followed by a light lunch. \nAll welcome
URL:https://ivanhoebaptist.org.au/event/alongsiders-people-of-prayer/
LOCATION:Ivanhoe Baptist Church\, 1 Livingstone Street\, IVANHOE\, VIC\, 3079\, Australia
ATTACH;FMTTYPE=image/png:https://ivanhoebaptist.org.au/gem/wp-content/uploads/2023/10/Alongsiders-e1698645959784.png
ORGANIZER;CN="Ivanhoe Baptist Church":MAILTO:info@ivanhoebaptist.org.au
END:VEVENT
BEGIN:VEVENT
DTSTART;TZID=Australia/Melbourne:20231105T100000
DTEND;TZID=Australia/Melbourne:20231105T100000
DTSTAMP:20260426T023544
CREATED:20231028T032949Z
LAST-MODIFIED:20231101T054117Z
UID:37455-1699178400-1699178400@ivanhoebaptist.org.au
SUMMARY:Alongsiders - People of Love
DESCRIPTION:Join us for the second week of our four-week series\, Alongsiders. \nThis week: People of Love \nThe Alongsiders series has been developed by Baptist Mission Australia and encourages us to be people who get alongside others as we share the truth and love of Jesus with the world. \nWe will celebrate the Lord’s Supper during the service. \nThe service will be followed by Morning Tea and Refreshments.
URL:https://ivanhoebaptist.org.au/event/alongsiders-people-of-love/
LOCATION:Ivanhoe Baptist Church\, 1 Livingstone Street\, IVANHOE\, VIC\, 3079\, Australia
ATTACH;FMTTYPE=image/png:https://ivanhoebaptist.org.au/gem/wp-content/uploads/2023/10/Alongsiders-e1698645959784.png
ORGANIZER;CN="Ivanhoe Baptist Church":MAILTO:info@ivanhoebaptist.org.au
END:VEVENT
BEGIN:VEVENT
DTSTART;TZID=Australia/Melbourne:20231029T100000
DTEND;TZID=Australia/Melbourne:20231029T100000
DTSTAMP:20260426T023544
CREATED:20231027T124647Z
LAST-MODIFIED:20231031T093640Z
UID:37447-1698573600-1698573600@ivanhoebaptist.org.au
SUMMARY:Alongsiders - People of Peace
DESCRIPTION:Join us for the first week of our four-week series\, Alongsiders. \nThis week: People of Peace \nThe Alongsiders series has been developed by Baptist Mission Australia and encourages us to be people who get alongside others as we share the truth and love of Jesus with the world. \nMorning tea and refreshments will be served following the service.
URL:https://ivanhoebaptist.org.au/event/alongsiders-people-of-peace/
LOCATION:Ivanhoe Baptist Church\, 1 Livingstone Street\, IVANHOE\, VIC\, 3079\, Australia
ATTACH;FMTTYPE=image/png:https://ivanhoebaptist.org.au/gem/wp-content/uploads/2023/10/Alongsiders-e1698645959784.png
ORGANIZER;CN="Ivanhoe Baptist Church":MAILTO:info@ivanhoebaptist.org.au
END:VEVENT
BEGIN:VEVENT
DTSTART;TZID=Australia/Melbourne:20231008T100000
DTEND;TZID=Australia/Melbourne:20231008T120000
DTSTAMP:20260426T023544
CREATED:20231006T131450Z
LAST-MODIFIED:20231006T133614Z
UID:37374-1696759200-1696766400@ivanhoebaptist.org.au
SUMMARY:Sunday @ 10am Gathering with lunch
DESCRIPTION:This Sunday 8 October you are welcome to join our gathering at 10am as we explore faith and life. This week we investigate the power of hospitality. \nLunch will be served after the service. \nAll are welcome.
URL:https://ivanhoebaptist.org.au/event/sunday-10am-gathering-with-lunch/
LOCATION:Ivanhoe Baptist Church\, 1 Livingstone Street\, IVANHOE\, VIC\, 3079\, Australia
ATTACH;FMTTYPE=image/png:https://ivanhoebaptist.org.au/gem/wp-content/uploads/2023/10/Join-us-for-Sunday-Church-Service-e1696598734253.png
ORGANIZER;CN="Ivanhoe Baptist Church":MAILTO:info@ivanhoebaptist.org.au
END:VEVENT
BEGIN:VEVENT
DTSTART;TZID=Australia/Melbourne:20230924T100000
DTEND;TZID=Australia/Melbourne:20230924T100000
DTSTAMP:20260426T023544
CREATED:20230922T015532Z
LAST-MODIFIED:20230927T085422Z
UID:37237-1695549600-1695549600@ivanhoebaptist.org.au
SUMMARY:Sunday @ 10am - Creation Care
DESCRIPTION:If God created the cosmos and said it was very good\, how should we relate to it? This week in the Baptist Union of Victoria’s Justice and Advocacy Series we explore Creation Care and what it might mean for us. \nJoin us in the IBC Chapel at 10am for a time of worship that includes music\, prayer\, learning and conversation\, followed by morning tea in the LCC. \n 
URL:https://ivanhoebaptist.org.au/event/sunday-10am-2023-09-24/
LOCATION:Ivanhoe Baptist Church\, 1 Livingstone Street\, IVANHOE\, VIC\, 3079\, Australia
ATTACH;FMTTYPE=image/jpeg:https://ivanhoebaptist.org.au/gem/wp-content/uploads/2023/09/stock-photos-image1783174912.jpg
ORGANIZER;CN="Ivanhoe Baptist Church":MAILTO:info@ivanhoebaptist.org.au
END:VEVENT
BEGIN:VEVENT
DTSTART;TZID=Australia/Melbourne:20230910T100000
DTEND;TZID=Australia/Melbourne:20230910T120000
DTSTAMP:20260426T023544
CREATED:20230920T054244Z
LAST-MODIFIED:20230927T085216Z
UID:37206-1694340000-1694347200@ivanhoebaptist.org.au
SUMMARY:Church Anniversary
DESCRIPTION:You are invited to join us as we celebrate 112 years of ministry. \nThe service will be followed by a buffet lunch. \nALL WELCOME
URL:https://ivanhoebaptist.org.au/event/church-anniversary/
LOCATION:Ivanhoe Baptist Church\, 1 Livingstone Street\, IVANHOE\, VIC\, 3079\, Australia
ATTACH;FMTTYPE=image/jpeg:https://ivanhoebaptist.org.au/gem/wp-content/uploads/2023/09/112-Anniversary.jpg
END:VEVENT
END:VCALENDAR