BEGIN:VCALENDAR
VERSION:2.0
PRODID:-//Ivanhoe Baptist Community - ECPv6.15.20//NONSGML v1.0//EN
CALSCALE:GREGORIAN
METHOD:PUBLISH
X-ORIGINAL-URL:https://ivanhoebaptist.org.au
X-WR-CALDESC:Events for Ivanhoe Baptist Community
REFRESH-INTERVAL;VALUE=DURATION:PT1H
X-Robots-Tag:noindex
X-PUBLISHED-TTL:PT1H
BEGIN:VTIMEZONE
TZID:Australia/Melbourne
BEGIN:STANDARD
TZOFFSETFROM:+1100
TZOFFSETTO:+1000
TZNAME:AEST
DTSTART:20250405T160000
END:STANDARD
BEGIN:DAYLIGHT
TZOFFSETFROM:+1000
TZOFFSETTO:+1100
TZNAME:AEDT
DTSTART:20251004T160000
END:DAYLIGHT
BEGIN:STANDARD
TZOFFSETFROM:+1100
TZOFFSETTO:+1000
TZNAME:AEST
DTSTART:20260404T160000
END:STANDARD
BEGIN:DAYLIGHT
TZOFFSETFROM:+1000
TZOFFSETTO:+1100
TZNAME:AEDT
DTSTART:20261003T160000
END:DAYLIGHT
BEGIN:STANDARD
TZOFFSETFROM:+1100
TZOFFSETTO:+1000
TZNAME:AEST
DTSTART:20270403T160000
END:STANDARD
BEGIN:DAYLIGHT
TZOFFSETFROM:+1000
TZOFFSETTO:+1100
TZNAME:AEDT
DTSTART:20271002T160000
END:DAYLIGHT
END:VTIMEZONE
BEGIN:VEVENT
DTSTART;TZID=Australia/Melbourne:20260403T093000
DTEND;TZID=Australia/Melbourne:20260403T103000
DTSTAMP:20260425T055544
CREATED:20260324T014412Z
LAST-MODIFIED:20260324T015242Z
UID:38637-1775208600-1775212200@ivanhoebaptist.org.au
SUMMARY:Easter @ IBC - Good Friday
DESCRIPTION:The cross is the centre of everything. \nOn Good Friday morning\, we pause. We remember. We sit quietly with the weight of what Jesus gave — his body broken\, his life given\, his love complete — and we let that sink in before the celebration of Easter Sunday. \n“God demonstrates God’s own love for us in this: while we were still sinners\, Christ died for us.” — Romans 5:8 \nJoin us on Friday 3 April at 9:30 am at Ivanhoe Baptist Church for a special\, reflective morning service as we mark together the death of Jesus. \nAll are welcome.
URL:https://ivanhoebaptist.org.au/event/easter-ibc-good-friday/
LOCATION:Ivanhoe Baptist Church\, 1 Livingstone Street\, IVANHOE\, VIC\, 3079\, Australia
ATTACH;FMTTYPE=image/jpeg:https://ivanhoebaptist.org.au/gem/wp-content/uploads/2026/03/Easter-Week-scaled.jpg
ORGANIZER;CN="Ivanhoe Baptist Church":MAILTO:info@ivanhoebaptist.org.au
END:VEVENT
BEGIN:VEVENT
DTSTART;TZID=Australia/Melbourne:20260403T120000
DTEND;TZID=Australia/Melbourne:20260403T123000
DTSTAMP:20260425T055544
CREATED:20260324T020220Z
LAST-MODIFIED:20260324T021518Z
UID:38639-1775217600-1775219400@ivanhoebaptist.org.au
SUMMARY:Easter @ IBC - Good Friday Walk of Witness
DESCRIPTION:Each Good Friday\, Christians from across our local area walk together through the streets of Ivanhoe as a public act of witness — remembering the way of the cross and the love of Jesus who walked it. \nThis year\, join us as we walk together as one community\, united across our different churches and traditions. \nFriday 3 April | 12:00 noon \nWe gather at St James’ Anglican Church\, 252 Upper Heidelberg Road\, Ivanhoe and walk via Ivanhoe Uniting Church\, 15 Seddon Street\, Ivanhoe to Mary Immaculate Catholic Church\, 2–6 Waverley Avenue\, Ivanhoe\, where we’ll finish with a cup of tea and a chance to connect with fellow believers from across the area. \nOrganised by Banyule Churches Together. \nAll are welcome — bring your walking shoes and a friend.
URL:https://ivanhoebaptist.org.au/event/easter-ibc-walk-of-witness/
LOCATION:St James Anglican Church\, 252 Upper Heidelberg Road\, Ivanhoe\, VIC\, 3079\, Australia
ATTACH;FMTTYPE=image/jpeg:https://ivanhoebaptist.org.au/gem/wp-content/uploads/2026/03/Easter-Week-scaled.jpg
ORGANIZER;CN="Banyule Churches Together":MAILTO:ivanhoe@cam.org.au
END:VEVENT
END:VCALENDAR