BEGIN:VCALENDAR
VERSION:2.0
PRODID:-//Ivanhoe Baptist Community - ECPv6.15.20//NONSGML v1.0//EN
CALSCALE:GREGORIAN
METHOD:PUBLISH
X-ORIGINAL-URL:https://ivanhoebaptist.org.au
X-WR-CALDESC:Events for Ivanhoe Baptist Community
REFRESH-INTERVAL;VALUE=DURATION:PT1H
X-Robots-Tag:noindex
X-PUBLISHED-TTL:PT1H
BEGIN:VTIMEZONE
TZID:Australia/Melbourne
BEGIN:STANDARD
TZOFFSETFROM:+1100
TZOFFSETTO:+1000
TZNAME:AEST
DTSTART:20240406T160000
END:STANDARD
BEGIN:DAYLIGHT
TZOFFSETFROM:+1000
TZOFFSETTO:+1100
TZNAME:AEDT
DTSTART:20241005T160000
END:DAYLIGHT
BEGIN:STANDARD
TZOFFSETFROM:+1100
TZOFFSETTO:+1000
TZNAME:AEST
DTSTART:20250405T160000
END:STANDARD
BEGIN:DAYLIGHT
TZOFFSETFROM:+1000
TZOFFSETTO:+1100
TZNAME:AEDT
DTSTART:20251004T160000
END:DAYLIGHT
BEGIN:STANDARD
TZOFFSETFROM:+1100
TZOFFSETTO:+1000
TZNAME:AEST
DTSTART:20260404T160000
END:STANDARD
BEGIN:DAYLIGHT
TZOFFSETFROM:+1000
TZOFFSETTO:+1100
TZNAME:AEDT
DTSTART:20261003T160000
END:DAYLIGHT
END:VTIMEZONE
BEGIN:VEVENT
DTSTART;TZID=Australia/Melbourne:20250418T093000
DTEND;TZID=Australia/Melbourne:20250418T223000
DTSTAMP:20260425T215528
CREATED:20250328T065604Z
LAST-MODIFIED:20250329T022244Z
UID:38327-1744968600-1745015400@ivanhoebaptist.org.au
SUMMARY:Easter at Ivanhoe Baptist - Good Friday Communion Service
DESCRIPTION:You are invited to join us for a special Good Friday morning service. This gathering provides an opportunity to reflect on the significant sacrifice of Jesus and the immense love He demonstrated. Through prayers\, readings\, and songs\, we will walk together through the solemn events of Good Friday\, finding solace and hope in the midst of grief. We look forward to sharing this sacred time with you and our community. \nMorning tea will be served after the service. \nAt 12 noon we will join with Banyule Churches Together for the annual Good Friday Walk of Witness commencing at St James Anglican Church and processing to Mary Immaculate Catholic Church via Ivanhoe Uniting Church. You are welcome to join us for this walk of prayer\, reflection and witness.
URL:https://ivanhoebaptist.org.au/event/easter-friday/
LOCATION:Ivanhoe Baptist Church\, 1 Livingstone Street\, IVANHOE\, VIC\, 3079\, Australia
ATTACH;FMTTYPE=image/jpeg:https://ivanhoebaptist.org.au/gem/wp-content/uploads/2025/03/Easter-25-Wallpaper.jpg
ORGANIZER;CN="Ivanhoe Baptist Church":MAILTO:info@ivanhoebaptist.org.au
END:VEVENT
BEGIN:VEVENT
DTSTART;TZID=Australia/Melbourne:20250418T120000
DTEND;TZID=Australia/Melbourne:20250418T130000
DTSTAMP:20260425T215528
CREATED:20250329T042009Z
LAST-MODIFIED:20250329T042338Z
UID:38334-1744977600-1744981200@ivanhoebaptist.org.au
SUMMARY:Good Friday Walk of Witness
DESCRIPTION:You are invited to join the annual Banyule Churches Together Good Friday Walk of Witness through the Ivanhoe Retail Precinct. Representatives of the local churches will walk together in prayer and unity in remembrance of Jesus’ walk through the streets of Jerusalem to his crucifixion on Golgotha two millennia ago. This solemn walk of remembrance takes the following route beginning at 12 noon: \n\nMeet at St James Anglican Church (252 Upper Heidelberg Road\, Ivanhoe)\n\nfor prayer and readings before walking along Upper Heidelberg Road to\n\n\nIvanhoe Uniting Church (19 Seddon Street\, Ivanhoe)\n\nfor prayer and readings before walking along Upper Heidelberg Road to\n\n\nMary Immaculate Catholic Church (4 Waverley Avenue\, Ivanhoe)\n\nfor prayer and readings before finishing\n\n\n\nYou are welcome to join enroute if that suits your particular situation.
URL:https://ivanhoebaptist.org.au/event/good-friday-walk-of-witness-2/
LOCATION:St James Anglican Church\, 252 Upper Heidelberg Road\, Ivanhoe\, VIC\, 3079\, Australia
ATTACH;FMTTYPE=image/jpeg:https://ivanhoebaptist.org.au/gem/wp-content/uploads/2025/03/Walk-of-Witness.jpg
ORGANIZER;CN="Banyule Churches Together":MAILTO:ivanhoe@cam.org.au
END:VEVENT
END:VCALENDAR