BEGIN:VCALENDAR
VERSION:2.0
PRODID:-//Ivanhoe Baptist Community - ECPv6.15.20//NONSGML v1.0//EN
CALSCALE:GREGORIAN
METHOD:PUBLISH
X-WR-CALNAME:Ivanhoe Baptist Community
X-ORIGINAL-URL:https://ivanhoebaptist.org.au
X-WR-CALDESC:Events for Ivanhoe Baptist Community
REFRESH-INTERVAL;VALUE=DURATION:PT1H
X-Robots-Tag:noindex
X-PUBLISHED-TTL:PT1H
BEGIN:VTIMEZONE
TZID:Australia/Melbourne
BEGIN:STANDARD
TZOFFSETFROM:+1100
TZOFFSETTO:+1000
TZNAME:AEST
DTSTART:20240406T160000
END:STANDARD
BEGIN:DAYLIGHT
TZOFFSETFROM:+1000
TZOFFSETTO:+1100
TZNAME:AEDT
DTSTART:20241005T160000
END:DAYLIGHT
BEGIN:STANDARD
TZOFFSETFROM:+1100
TZOFFSETTO:+1000
TZNAME:AEST
DTSTART:20250405T160000
END:STANDARD
BEGIN:DAYLIGHT
TZOFFSETFROM:+1000
TZOFFSETTO:+1100
TZNAME:AEDT
DTSTART:20251004T160000
END:DAYLIGHT
BEGIN:STANDARD
TZOFFSETFROM:+1100
TZOFFSETTO:+1000
TZNAME:AEST
DTSTART:20260404T160000
END:STANDARD
BEGIN:DAYLIGHT
TZOFFSETFROM:+1000
TZOFFSETTO:+1100
TZNAME:AEDT
DTSTART:20261003T160000
END:DAYLIGHT
END:VTIMEZONE
BEGIN:VEVENT
DTSTART;TZID=Australia/Melbourne:20250307T140000
DTEND;TZID=Australia/Melbourne:20250307T150000
DTSTAMP:20260426T003828
CREATED:20250212T034102Z
LAST-MODIFIED:20250212T034205Z
UID:38296-1741356000-1741359600@ivanhoebaptist.org.au
SUMMARY:World Day of Prayer 2025 Service
DESCRIPTION:Banyule Churches Together are pleased to host the 2025 World Day of Prayer. This year the country of focus is The Cook Islands. The prayer resources have been prepared by the Cook Islands WDP Committee with the theme: ‘I Made You Wonderful’. \nAn offering will be received towards the Cook Islands “I made you wonderful” WDP Project 2025. The project is a collaboration between the Bible Society of the South Pacific and World Day of Prayer to reach women and children in the Cook Islands\, addressing gender violence against women and girls with Bible-based Trauma Healing programs\, and bridging the gap of Scriptural understanding and spiritual growth of children with Sunday School teachers training. For more information: click here. \nAfternoon Tea will be served after the service. All welcome.
URL:https://ivanhoebaptist.org.au/event/38296/
LOCATION:Ivanhoe Uniting Church\, 15 Seddon Street\, Ivanhoe\, VIC\, 3079\, Australia
ATTACH;FMTTYPE=image/jpeg:https://ivanhoebaptist.org.au/gem/wp-content/uploads/2025/02/WDOP2025.jpg
ORGANIZER;CN="Banyule Churches Together":MAILTO:ivanhoe@cam.org.au
END:VEVENT
END:VCALENDAR