BEGIN:VCALENDAR
VERSION:2.0
PRODID:-//Ivanhoe Baptist Community - ECPv6.15.20//NONSGML v1.0//EN
CALSCALE:GREGORIAN
METHOD:PUBLISH
X-ORIGINAL-URL:https://ivanhoebaptist.org.au
X-WR-CALDESC:Events for Ivanhoe Baptist Community
REFRESH-INTERVAL;VALUE=DURATION:PT1H
X-Robots-Tag:noindex
X-PUBLISHED-TTL:PT1H
BEGIN:VTIMEZONE
TZID:Australia/Melbourne
BEGIN:STANDARD
TZOFFSETFROM:+1100
TZOFFSETTO:+1000
TZNAME:AEST
DTSTART:20240406T160000
END:STANDARD
BEGIN:DAYLIGHT
TZOFFSETFROM:+1000
TZOFFSETTO:+1100
TZNAME:AEDT
DTSTART:20241005T160000
END:DAYLIGHT
BEGIN:STANDARD
TZOFFSETFROM:+1100
TZOFFSETTO:+1000
TZNAME:AEST
DTSTART:20250405T160000
END:STANDARD
BEGIN:DAYLIGHT
TZOFFSETFROM:+1000
TZOFFSETTO:+1100
TZNAME:AEDT
DTSTART:20251004T160000
END:DAYLIGHT
BEGIN:STANDARD
TZOFFSETFROM:+1100
TZOFFSETTO:+1000
TZNAME:AEST
DTSTART:20260404T160000
END:STANDARD
BEGIN:DAYLIGHT
TZOFFSETFROM:+1000
TZOFFSETTO:+1100
TZNAME:AEDT
DTSTART:20261003T160000
END:DAYLIGHT
END:VTIMEZONE
BEGIN:VEVENT
DTSTART;TZID=Australia/Melbourne:20250119T100000
DTEND;TZID=Australia/Melbourne:20250119T110000
DTSTAMP:20260426T015258
CREATED:20250115T075408Z
LAST-MODIFIED:20250116T002121Z
UID:38264-1737280800-1737284400@ivanhoebaptist.org.au
SUMMARY:Summer Worship Sundays @ 10am - This Sunday - Aboriginal Sunday
DESCRIPTION:Join us in January for Summer Worship as we explore faith\, share life and enjoy community in a friendly and informal setting. \nThis Sunday is Aboriginal Sunday\, observed each year on the Sunday before January 26\, as an opportunity for the Australian Church to stand in solidarity and pray for justice and the flourishing of Aboriginal and Torres Strait Islander peoples. It has its origins back in the 1930’s resulting from a call by Aboriginal Christian leaders. \nJoin us as we listen to stories\, consider scripture and pray for our Aboriginal and Torres Strait Islander brothers and sisters and our nation.
URL:https://ivanhoebaptist.org.au/event/summer-worship-sundays-10am-copy/
LOCATION:Livingstone Community Centre\, 1 Livingstone Street\, IVANHOE\, VIC\, 3079\, Australia
ATTACH;FMTTYPE=image/jpeg:https://ivanhoebaptist.org.au/gem/wp-content/uploads/2024/12/Summer.jpg
ORGANIZER;CN="Ivanhoe Baptist Church":MAILTO:info@ivanhoebaptist.org.au
END:VEVENT
END:VCALENDAR