BEGIN:VCALENDAR
VERSION:2.0
PRODID:-//Ivanhoe Baptist Community - ECPv6.15.20//NONSGML v1.0//EN
CALSCALE:GREGORIAN
METHOD:PUBLISH
X-ORIGINAL-URL:https://ivanhoebaptist.org.au
X-WR-CALDESC:Events for Ivanhoe Baptist Community
REFRESH-INTERVAL;VALUE=DURATION:PT1H
X-Robots-Tag:noindex
X-PUBLISHED-TTL:PT1H
BEGIN:VTIMEZONE
TZID:Australia/Melbourne
BEGIN:STANDARD
TZOFFSETFROM:+1100
TZOFFSETTO:+1000
TZNAME:AEST
DTSTART:20230401T160000
END:STANDARD
BEGIN:DAYLIGHT
TZOFFSETFROM:+1000
TZOFFSETTO:+1100
TZNAME:AEDT
DTSTART:20230930T160000
END:DAYLIGHT
BEGIN:STANDARD
TZOFFSETFROM:+1100
TZOFFSETTO:+1000
TZNAME:AEST
DTSTART:20240406T160000
END:STANDARD
BEGIN:DAYLIGHT
TZOFFSETFROM:+1000
TZOFFSETTO:+1100
TZNAME:AEDT
DTSTART:20241005T160000
END:DAYLIGHT
BEGIN:STANDARD
TZOFFSETFROM:+1100
TZOFFSETTO:+1000
TZNAME:AEST
DTSTART:20250405T160000
END:STANDARD
BEGIN:DAYLIGHT
TZOFFSETFROM:+1000
TZOFFSETTO:+1100
TZNAME:AEDT
DTSTART:20251004T160000
END:DAYLIGHT
END:VTIMEZONE
BEGIN:VEVENT
DTSTART;TZID=Australia/Melbourne:20241203T193000
DTEND;TZID=Australia/Melbourne:20241203T210000
DTSTAMP:20260426T030853
CREATED:20241130T014421Z
LAST-MODIFIED:20241130T015528Z
UID:38221-1733254200-1733259600@ivanhoebaptist.org.au
SUMMARY:2024 Annual Advent McKinney Lecture
DESCRIPTION:Banyule Churches Together invites you to our 2024 Annual Advent McKinney Lecture\nTitle:  If faith can move mountains\, why haven’t we moved beyond gendered violence and homelessness? \nSpeakers: \nFelicity Rorke – Executive Director of the Good Samaritan Inn. Chair of the Catholic Social Services Domestic Violence Working Group \nJoshua Lourensz – Executive Director Catholic Social Services \nRefreshments will be served following the presentations. \nAll Welcome \nThe McKinney Lectures\nRev. Dr. Richard McKinney\, born in 1938\, was a distinguished theologian and ecumenist who passed away on November 20\, 1996. He was known for his profound insights into the doctrine of the Triune God and his commitment to ecumenism\, bringing together diverse Christian traditions. Dr. McKinney served as the Director of Trinity Theological School until his retirement in August 1996. For over 20 years the Churches of East Ivanhoe\, Ivanhoe\, Heidelberg and Rosanna have been hosting an annual ecumenical Advent and Lenten lecture series in memory of Dick McKinney. Dick was a passionate ecumenist renowned for his intellect\, imagination and sharp wit. Over these past two decades and more\, a diverse range of men and women representing the breadth of Christian thought and experience have spoken in his memory.
URL:https://ivanhoebaptist.org.au/event/2024-annual-advent-mckinney-lecture/
LOCATION:Ivanhoe Uniting Church\, 15 Seddon Street\, Ivanhoe\, VIC\, 3079\, Australia
ATTACH;FMTTYPE=image/jpeg:https://ivanhoebaptist.org.au/gem/wp-content/uploads/2024/11/McKinney-Lecture.jpg
ORGANIZER;CN="Banyule Churches Together":MAILTO:ivanhoe@cam.org.au
END:VEVENT
END:VCALENDAR