BEGIN:VCALENDAR
VERSION:2.0
PRODID:-//Ivanhoe Baptist Community - ECPv6.15.20//NONSGML v1.0//EN
CALSCALE:GREGORIAN
METHOD:PUBLISH
X-WR-CALNAME:Ivanhoe Baptist Community
X-ORIGINAL-URL:https://ivanhoebaptist.org.au
X-WR-CALDESC:Events for Ivanhoe Baptist Community
REFRESH-INTERVAL;VALUE=DURATION:PT1H
X-Robots-Tag:noindex
X-PUBLISHED-TTL:PT1H
BEGIN:VTIMEZONE
TZID:Australia/Melbourne
BEGIN:STANDARD
TZOFFSETFROM:+1100
TZOFFSETTO:+1000
TZNAME:AEST
DTSTART:20230401T160000
END:STANDARD
BEGIN:DAYLIGHT
TZOFFSETFROM:+1000
TZOFFSETTO:+1100
TZNAME:AEDT
DTSTART:20230930T160000
END:DAYLIGHT
BEGIN:STANDARD
TZOFFSETFROM:+1100
TZOFFSETTO:+1000
TZNAME:AEST
DTSTART:20240406T160000
END:STANDARD
BEGIN:DAYLIGHT
TZOFFSETFROM:+1000
TZOFFSETTO:+1100
TZNAME:AEDT
DTSTART:20241005T160000
END:DAYLIGHT
BEGIN:STANDARD
TZOFFSETFROM:+1100
TZOFFSETTO:+1000
TZNAME:AEST
DTSTART:20250405T160000
END:STANDARD
BEGIN:DAYLIGHT
TZOFFSETFROM:+1000
TZOFFSETTO:+1100
TZNAME:AEDT
DTSTART:20251004T160000
END:DAYLIGHT
END:VTIMEZONE
BEGIN:VEVENT
DTSTART;TZID=Australia/Melbourne:20241103T100000
DTEND;TZID=Australia/Melbourne:20241103T113000
DTSTAMP:20260426T043139
CREATED:20241029T024248Z
LAST-MODIFIED:20241029T025146Z
UID:38195-1730628000-1730633400@ivanhoebaptist.org.au
SUMMARY:Walking the Way - Living out our Identity - Sunday @ 10am
DESCRIPTION:This week we explore the profound question\, “If our identity is found in Christ\, how then shall we live?” \nJoin us for the next instalment of Walking the Way of Jesus. The service will include Communion and be followed by morning tea. \nWe can’t wait to welcome you!
URL:https://ivanhoebaptist.org.au/event/walking-the-way-living-our-identity-sunday-10am/
LOCATION:Ivanhoe Baptist Church\, 1 Livingstone Street\, IVANHOE\, VIC\, 3079\, Australia
ATTACH;FMTTYPE=image/jpeg:https://ivanhoebaptist.org.au/gem/wp-content/uploads/2024/10/2024-11-03-Identity-in-Christ.jpg
ORGANIZER;CN="Ivanhoe Baptist Church":MAILTO:info@ivanhoebaptist.org.au
END:VEVENT
END:VCALENDAR