BEGIN:VCALENDAR
VERSION:2.0
PRODID:-//Ivanhoe Baptist Community - ECPv6.15.20//NONSGML v1.0//EN
CALSCALE:GREGORIAN
METHOD:PUBLISH
X-WR-CALNAME:Ivanhoe Baptist Community
X-ORIGINAL-URL:https://ivanhoebaptist.org.au
X-WR-CALDESC:Events for Ivanhoe Baptist Community
REFRESH-INTERVAL;VALUE=DURATION:PT1H
X-Robots-Tag:noindex
X-PUBLISHED-TTL:PT1H
BEGIN:VTIMEZONE
TZID:Australia/Melbourne
BEGIN:STANDARD
TZOFFSETFROM:+1100
TZOFFSETTO:+1000
TZNAME:AEST
DTSTART:20230401T160000
END:STANDARD
BEGIN:DAYLIGHT
TZOFFSETFROM:+1000
TZOFFSETTO:+1100
TZNAME:AEDT
DTSTART:20230930T160000
END:DAYLIGHT
BEGIN:STANDARD
TZOFFSETFROM:+1100
TZOFFSETTO:+1000
TZNAME:AEST
DTSTART:20240406T160000
END:STANDARD
BEGIN:DAYLIGHT
TZOFFSETFROM:+1000
TZOFFSETTO:+1100
TZNAME:AEDT
DTSTART:20241005T160000
END:DAYLIGHT
BEGIN:STANDARD
TZOFFSETFROM:+1100
TZOFFSETTO:+1000
TZNAME:AEST
DTSTART:20250405T160000
END:STANDARD
BEGIN:DAYLIGHT
TZOFFSETFROM:+1000
TZOFFSETTO:+1100
TZNAME:AEDT
DTSTART:20251004T160000
END:DAYLIGHT
END:VTIMEZONE
BEGIN:VEVENT
DTSTART;TZID=Australia/Melbourne:20240818T100000
DTEND;TZID=Australia/Melbourne:20240818T113000
DTSTAMP:20260426T081606
CREATED:20240813T014021Z
LAST-MODIFIED:20240813T014202Z
UID:38162-1723975200-1723980600@ivanhoebaptist.org.au
SUMMARY:Sunday @ 10am - Bridging the Gap IV - I thought I'd be further along the way
DESCRIPTION:Many people experience a gap between their beliefs about God and their daily experiences. This “expectation gap” is a common challenge in the journey of faith. \n\nBelieving in God’s love without feeling it\nTrusting God’s presence without seeing it\nAnticipating more progress in our spiritual growth\n\nThis week we continue our series\, The Expectation Gap inspired by the book of the same name\, by Steve Cuss. The series invites you to delve into how you respond to Jesus’ call to live with and for God\, empowered by the Holy Spirit. \nJoin us for the service\, followed by morning tea. Everyone is welcome.
URL:https://ivanhoebaptist.org.au/event/sunday-10am-bridging-the-gap-iv/
LOCATION:Ivanhoe Baptist Church\, 1 Livingstone Street\, IVANHOE\, VIC\, 3079\, Australia
ATTACH;FMTTYPE=image/jpeg:https://ivanhoebaptist.org.au/gem/wp-content/uploads/2024/08/The-Expectation-Gap.jpg
ORGANIZER;CN="Ivanhoe Baptist Church":MAILTO:info@ivanhoebaptist.org.au
END:VEVENT
END:VCALENDAR