BEGIN:VCALENDAR
VERSION:2.0
PRODID:-//Ivanhoe Baptist Community - ECPv6.15.20//NONSGML v1.0//EN
CALSCALE:GREGORIAN
METHOD:PUBLISH
X-WR-CALNAME:Ivanhoe Baptist Community
X-ORIGINAL-URL:https://ivanhoebaptist.org.au
X-WR-CALDESC:Events for Ivanhoe Baptist Community
REFRESH-INTERVAL;VALUE=DURATION:PT1H
X-Robots-Tag:noindex
X-PUBLISHED-TTL:PT1H
BEGIN:VTIMEZONE
TZID:Australia/Melbourne
BEGIN:STANDARD
TZOFFSETFROM:+1100
TZOFFSETTO:+1000
TZNAME:AEST
DTSTART:20230401T160000
END:STANDARD
BEGIN:DAYLIGHT
TZOFFSETFROM:+1000
TZOFFSETTO:+1100
TZNAME:AEDT
DTSTART:20230930T160000
END:DAYLIGHT
BEGIN:STANDARD
TZOFFSETFROM:+1100
TZOFFSETTO:+1000
TZNAME:AEST
DTSTART:20240406T160000
END:STANDARD
BEGIN:DAYLIGHT
TZOFFSETFROM:+1000
TZOFFSETTO:+1100
TZNAME:AEDT
DTSTART:20241005T160000
END:DAYLIGHT
BEGIN:STANDARD
TZOFFSETFROM:+1100
TZOFFSETTO:+1000
TZNAME:AEST
DTSTART:20250405T160000
END:STANDARD
BEGIN:DAYLIGHT
TZOFFSETFROM:+1000
TZOFFSETTO:+1100
TZNAME:AEDT
DTSTART:20251004T160000
END:DAYLIGHT
END:VTIMEZONE
BEGIN:VEVENT
DTSTART;TZID=Australia/Melbourne:20240630T100000
DTEND;TZID=Australia/Melbourne:20240630T110000
DTSTAMP:20260426T093535
CREATED:20240625T053703Z
LAST-MODIFIED:20240627T034817Z
UID:38072-1719741600-1719745200@ivanhoebaptist.org.au
SUMMARY:School Holiday Worship I
DESCRIPTION:Winter has arrived\, school holidays are here\, and it’s wonderful to be together. \nWe will gather on Sundays @ 10am in the Livingstone Community Centre Hall\, adjacent to our chapel. \nYou are invited to join us in a warm\, relaxed\, and welcoming environment to celebrate life and faith together. \nTheme: Food for the Soul – tucking into the Bible \nA three-week exploration of what is the Bible\, how read it\, and how to live in the light of it. \nJune 30:  The Bible: what’s on the menu\nJuly 7:  The Bible: reading the menu. (Communion will be celebrated)\nJuly 14:  The Bible: savouring the meal. (Including Lunch together)
URL:https://ivanhoebaptist.org.au/event/school-holiday-worship/
LOCATION:Livingstone Community Centre\, 1 Livingstone Street\, IVANHOE\, VIC\, 3079\, Australia
ATTACH;FMTTYPE=image/jpeg:https://ivanhoebaptist.org.au/gem/wp-content/uploads/2024/06/Tucking-into-the-Bible-this-winter.jpg
ORGANIZER;CN="Ivanhoe Baptist Church":MAILTO:info@ivanhoebaptist.org.au
END:VEVENT
END:VCALENDAR