BEGIN:VCALENDAR
VERSION:2.0
PRODID:-//Ivanhoe Baptist Community - ECPv6.15.20//NONSGML v1.0//EN
CALSCALE:GREGORIAN
METHOD:PUBLISH
X-ORIGINAL-URL:https://ivanhoebaptist.org.au
X-WR-CALDESC:Events for Ivanhoe Baptist Community
REFRESH-INTERVAL;VALUE=DURATION:PT1H
X-Robots-Tag:noindex
X-PUBLISHED-TTL:PT1H
BEGIN:VTIMEZONE
TZID:Australia/Melbourne
BEGIN:STANDARD
TZOFFSETFROM:+1100
TZOFFSETTO:+1000
TZNAME:AEST
DTSTART:20230401T160000
END:STANDARD
BEGIN:DAYLIGHT
TZOFFSETFROM:+1000
TZOFFSETTO:+1100
TZNAME:AEDT
DTSTART:20230930T160000
END:DAYLIGHT
BEGIN:STANDARD
TZOFFSETFROM:+1100
TZOFFSETTO:+1000
TZNAME:AEST
DTSTART:20240406T160000
END:STANDARD
BEGIN:DAYLIGHT
TZOFFSETFROM:+1000
TZOFFSETTO:+1100
TZNAME:AEDT
DTSTART:20241005T160000
END:DAYLIGHT
BEGIN:STANDARD
TZOFFSETFROM:+1100
TZOFFSETTO:+1000
TZNAME:AEST
DTSTART:20250405T160000
END:STANDARD
BEGIN:DAYLIGHT
TZOFFSETFROM:+1000
TZOFFSETTO:+1100
TZNAME:AEDT
DTSTART:20251004T160000
END:DAYLIGHT
END:VTIMEZONE
BEGIN:VEVENT
DTSTART;TZID=Australia/Melbourne:20240612T120000
DTEND;TZID=Australia/Melbourne:20240612T130000
DTSTAMP:20260426T105716
CREATED:20240608T055703Z
LAST-MODIFIED:20240608T055749Z
UID:38036-1718193600-1718197200@ivanhoebaptist.org.au
SUMMARY:Community Lunch - Wednesdays @ 12 Noon
DESCRIPTION:We are thrilled to extend an invitation to you for our weekly Community Lunch at the Livingstone Community Centre. \nWhen: Every Wednesday Time: 12:00 PM – 1:00 PM \nCome and savor the delicious dishes prepared with care by Ralph and the dedicated team of volunteers. Whether you’re a regular attendee or new to the area\, we welcome you. \nThis lunch is not just about the food on the plate\, but also about the friendly faces around the table. It’s an opportunity to meet new friends\, catch up with neighbors\, and be part of the wonderful tapestry that makes our community so special. \nPlease RSVP by the Tuesday (am) before the lunch you wish to attend\, so we can ensure there’s plenty of food to go around!
URL:https://ivanhoebaptist.org.au/event/community-lunch-wednesdays-12-noon-copy-copy-copy-copy-copy/
LOCATION:Livingstone Community Centre\, 1 Livingstone Street\, IVANHOE\, VIC\, 3079\, Australia
ATTACH;FMTTYPE=image/jpeg:https://ivanhoebaptist.org.au/gem/wp-content/uploads/2024/05/Community-Lunch-e1714961892422.jpg
ORGANIZER;CN="Livingstone Community Centre":MAILTO:community@livingstone.org.au
END:VEVENT
END:VCALENDAR