BEGIN:VCALENDAR
VERSION:2.0
PRODID:-//Ivanhoe Baptist Community - ECPv6.15.20//NONSGML v1.0//EN
CALSCALE:GREGORIAN
METHOD:PUBLISH
X-WR-CALNAME:Ivanhoe Baptist Community
X-ORIGINAL-URL:https://ivanhoebaptist.org.au
X-WR-CALDESC:Events for Ivanhoe Baptist Community
REFRESH-INTERVAL;VALUE=DURATION:PT1H
X-Robots-Tag:noindex
X-PUBLISHED-TTL:PT1H
BEGIN:VTIMEZONE
TZID:Australia/Melbourne
BEGIN:STANDARD
TZOFFSETFROM:+1100
TZOFFSETTO:+1000
TZNAME:AEST
DTSTART:20230401T160000
END:STANDARD
BEGIN:DAYLIGHT
TZOFFSETFROM:+1000
TZOFFSETTO:+1100
TZNAME:AEDT
DTSTART:20230930T160000
END:DAYLIGHT
BEGIN:STANDARD
TZOFFSETFROM:+1100
TZOFFSETTO:+1000
TZNAME:AEST
DTSTART:20240406T160000
END:STANDARD
BEGIN:DAYLIGHT
TZOFFSETFROM:+1000
TZOFFSETTO:+1100
TZNAME:AEDT
DTSTART:20241005T160000
END:DAYLIGHT
BEGIN:STANDARD
TZOFFSETFROM:+1100
TZOFFSETTO:+1000
TZNAME:AEST
DTSTART:20250405T160000
END:STANDARD
BEGIN:DAYLIGHT
TZOFFSETFROM:+1000
TZOFFSETTO:+1100
TZNAME:AEDT
DTSTART:20251004T160000
END:DAYLIGHT
END:VTIMEZONE
BEGIN:VEVENT
DTSTART;TZID=Australia/Melbourne:20240526T100000
DTEND;TZID=Australia/Melbourne:20240526T113000
DTSTAMP:20260426T105619
CREATED:20240505T071245Z
LAST-MODIFIED:20240505T072648Z
UID:37991-1716717600-1716723000@ivanhoebaptist.org.au
SUMMARY:Mending - Joining with God in mending a beautiful\, broken world #3
DESCRIPTION:In Luke 4:14–21\, Jesus announces His mission to bring holistic restoration. As co-menders\, we are called to engage in this mission by responding to the brokenness and injustice around us and worldwide. God envisions a restored creation—people\, planet and cosmos alike—and invites us to participate in God’s grand\, restorative vision. Join us as we contemplate this vision and how we might respond to God’s invitation to join in. \nMorning tea and refreshments will be served after the service\, followed by our Quarterly Church Meeting.
URL:https://ivanhoebaptist.org.au/event/mending-joining-with-god-in-mending-a-beautiful-broken-world-3/
LOCATION:Ivanhoe Baptist Church\, 1 Livingstone Street\, IVANHOE\, VIC\, 3079\, Australia
ATTACH;FMTTYPE=image/jpeg:https://ivanhoebaptist.org.au/gem/wp-content/uploads/2024/05/2024-05-26-BMA-Mending-3.jpg
ORGANIZER;CN="Ivanhoe Baptist Church":MAILTO:info@ivanhoebaptist.org.au
END:VEVENT
END:VCALENDAR