BEGIN:VCALENDAR
VERSION:2.0
PRODID:-//Ivanhoe Baptist Community - ECPv6.15.20//NONSGML v1.0//EN
CALSCALE:GREGORIAN
METHOD:PUBLISH
X-ORIGINAL-URL:https://ivanhoebaptist.org.au
X-WR-CALDESC:Events for Ivanhoe Baptist Community
REFRESH-INTERVAL;VALUE=DURATION:PT1H
X-Robots-Tag:noindex
X-PUBLISHED-TTL:PT1H
BEGIN:VTIMEZONE
TZID:Australia/Melbourne
BEGIN:STANDARD
TZOFFSETFROM:+1100
TZOFFSETTO:+1000
TZNAME:AEST
DTSTART:20230401T160000
END:STANDARD
BEGIN:DAYLIGHT
TZOFFSETFROM:+1000
TZOFFSETTO:+1100
TZNAME:AEDT
DTSTART:20230930T160000
END:DAYLIGHT
BEGIN:STANDARD
TZOFFSETFROM:+1100
TZOFFSETTO:+1000
TZNAME:AEST
DTSTART:20240406T160000
END:STANDARD
BEGIN:DAYLIGHT
TZOFFSETFROM:+1000
TZOFFSETTO:+1100
TZNAME:AEDT
DTSTART:20241005T160000
END:DAYLIGHT
BEGIN:STANDARD
TZOFFSETFROM:+1100
TZOFFSETTO:+1000
TZNAME:AEST
DTSTART:20250405T160000
END:STANDARD
BEGIN:DAYLIGHT
TZOFFSETFROM:+1000
TZOFFSETTO:+1100
TZNAME:AEDT
DTSTART:20251004T160000
END:DAYLIGHT
END:VTIMEZONE
BEGIN:VEVENT
DTSTART;TZID=Australia/Melbourne:20240505T100000
DTEND;TZID=Australia/Melbourne:20240505T113000
DTSTAMP:20260426T133038
CREATED:20240501T034126Z
LAST-MODIFIED:20240501T075726Z
UID:37980-1714903200-1714908600@ivanhoebaptist.org.au
SUMMARY:Mending - Joining with God in mending a beautiful\, broken world #1
DESCRIPTION:We live in a broken world\, and our lives are testimonies to this brokenness. Yet\, amid this reality\, we find hope. Our mending God doesn’t discard us due to our fractures; instead\, God desires to use us\, broken as we are\, transforming our wounds into wellsprings of empathy and strength. \nJoin us for as we begin to explore God’s invitation to be co-menders of this world. \nThe service will include Communion and will be followed by Morning Tea. \nAll welcome.
URL:https://ivanhoebaptist.org.au/event/mending-joining-with-god-in-mending-a-beautiful-broken-world/
LOCATION:Ivanhoe Baptist Church\, 1 Livingstone Street\, IVANHOE\, VIC\, 3079\, Australia
ATTACH;FMTTYPE=image/jpeg:https://ivanhoebaptist.org.au/gem/wp-content/uploads/2024/05/2024-05-05-BMA-Mending-1.jpg
ORGANIZER;CN="Ivanhoe Baptist Church":MAILTO:info@ivanhoebaptist.org.au
END:VEVENT
END:VCALENDAR