BEGIN:VCALENDAR
VERSION:2.0
PRODID:-//Ivanhoe Baptist Community - ECPv6.15.20//NONSGML v1.0//EN
CALSCALE:GREGORIAN
METHOD:PUBLISH
X-WR-CALNAME:Ivanhoe Baptist Community
X-ORIGINAL-URL:https://ivanhoebaptist.org.au
X-WR-CALDESC:Events for Ivanhoe Baptist Community
REFRESH-INTERVAL;VALUE=DURATION:PT1H
X-Robots-Tag:noindex
X-PUBLISHED-TTL:PT1H
BEGIN:VTIMEZONE
TZID:Australia/Melbourne
BEGIN:STANDARD
TZOFFSETFROM:+1100
TZOFFSETTO:+1000
TZNAME:AEST
DTSTART:20250405T160000
END:STANDARD
BEGIN:DAYLIGHT
TZOFFSETFROM:+1000
TZOFFSETTO:+1100
TZNAME:AEDT
DTSTART:20251004T160000
END:DAYLIGHT
BEGIN:STANDARD
TZOFFSETFROM:+1100
TZOFFSETTO:+1000
TZNAME:AEST
DTSTART:20260404T160000
END:STANDARD
BEGIN:DAYLIGHT
TZOFFSETFROM:+1000
TZOFFSETTO:+1100
TZNAME:AEDT
DTSTART:20261003T160000
END:DAYLIGHT
BEGIN:STANDARD
TZOFFSETFROM:+1100
TZOFFSETTO:+1000
TZNAME:AEST
DTSTART:20270403T160000
END:STANDARD
BEGIN:DAYLIGHT
TZOFFSETFROM:+1000
TZOFFSETTO:+1100
TZNAME:AEDT
DTSTART:20271002T160000
END:DAYLIGHT
END:VTIMEZONE
BEGIN:VEVENT
DTSTART;TZID=Australia/Melbourne:20260118T100000
DTEND;TZID=Australia/Melbourne:20260118T113000
DTSTAMP:20260421T211141
CREATED:20260114T003459Z
LAST-MODIFIED:20260114T004043Z
UID:38514-1768730400-1768735800@ivanhoebaptist.org.au
SUMMARY:What are you looking for? - Sunday @ 10am
DESCRIPTION:What Are You Looking For? — “Come and See” \nEveryone searches for something — meaning\, belonging\, hope\, direction. In John 1:38–39\, Jesus meets two curious seekers with a simple invitation: “Come and see.” \nThis Sunday\, join us as we explore what it means to bring our questions\, our longings\, and our faith before Christ — and to discover that He invites us to draw near and truly see who He is. \nWhether you’ve been walking with Jesus for years or are just beginning to explore faith\, you’re welcome here. Come and see what God might reveal to you. \nWe are meeting in our community centre hall during the summer holidays. \nMorning tea and refreshments are served following the service. \nAll Welcome
URL:https://ivanhoebaptist.org.au/event/what-are-you-looking-for-sunday-10am/
LOCATION:Livingstone Community Centre\, 1 Livingstone Street\, IVANHOE\, VIC\, 3079\, Australia
ATTACH;FMTTYPE=image/jpeg:https://ivanhoebaptist.org.au/gem/wp-content/uploads/2026/01/2026-01-18-Come-and-See.jpg
ORGANIZER;CN="Ivanhoe Baptist Church":MAILTO:info@ivanhoebaptist.org.au
END:VEVENT
END:VCALENDAR