BEGIN:VCALENDAR
VERSION:2.0
PRODID:-//Ivanhoe Baptist Community - ECPv6.15.20//NONSGML v1.0//EN
CALSCALE:GREGORIAN
METHOD:PUBLISH
X-WR-CALNAME:Ivanhoe Baptist Community
X-ORIGINAL-URL:https://ivanhoebaptist.org.au
X-WR-CALDESC:Events for Ivanhoe Baptist Community
REFRESH-INTERVAL;VALUE=DURATION:PT1H
X-Robots-Tag:noindex
X-PUBLISHED-TTL:PT1H
BEGIN:VTIMEZONE
TZID:Australia/Melbourne
BEGIN:STANDARD
TZOFFSETFROM:+1100
TZOFFSETTO:+1000
TZNAME:AEST
DTSTART:20250405T160000
END:STANDARD
BEGIN:DAYLIGHT
TZOFFSETFROM:+1000
TZOFFSETTO:+1100
TZNAME:AEDT
DTSTART:20251004T160000
END:DAYLIGHT
BEGIN:STANDARD
TZOFFSETFROM:+1100
TZOFFSETTO:+1000
TZNAME:AEST
DTSTART:20260404T160000
END:STANDARD
BEGIN:DAYLIGHT
TZOFFSETFROM:+1000
TZOFFSETTO:+1100
TZNAME:AEDT
DTSTART:20261003T160000
END:DAYLIGHT
BEGIN:STANDARD
TZOFFSETFROM:+1100
TZOFFSETTO:+1000
TZNAME:AEST
DTSTART:20270403T160000
END:STANDARD
BEGIN:DAYLIGHT
TZOFFSETFROM:+1000
TZOFFSETTO:+1100
TZNAME:AEDT
DTSTART:20271002T160000
END:DAYLIGHT
END:VTIMEZONE
BEGIN:VEVENT
DTSTART;TZID=Australia/Melbourne:20260201T100000
DTEND;TZID=Australia/Melbourne:20260201T113000
DTSTAMP:20260421T211149
CREATED:20260130T081118Z
LAST-MODIFIED:20260130T081118Z
UID:38523-1769940000-1769945400@ivanhoebaptist.org.au
SUMMARY:The Journey Begins - Sunday @ 10am
DESCRIPTION:Mark gives us the shortest—and one of the most dynamic—accounts of Jesus’ life. And he doesn’t begin with a manger scene. Instead\, Mark opens with Jesus bursting onto the stage of history with an urgent declaration: “The time is fulfilled\, and the kingdom of God has come near!” \n\nThis week we launch a new 8‑week series through the Gospel of Mark\, exploring what it means for heaven to be torn open and for God to break into our world. Join us as we begin this journey of discovering what life with Jesus on the road truly looks like. \nCommunion will be celebrated during the service.\nAfterwards\, stay for morning tea and refreshments—we’d love to connect with you.
URL:https://ivanhoebaptist.org.au/event/the-journey-begins-sunday-10am/
LOCATION:Ivanhoe Baptist Church\, 1 Livingstone Street\, IVANHOE\, VIC\, 3079\, Australia
ATTACH;FMTTYPE=image/jpeg:https://ivanhoebaptist.org.au/gem/wp-content/uploads/2026/01/2026-02-01-Mark-The-Beginning-of-the-Good-News.jpg
ORGANIZER;CN="Ivanhoe Baptist Church":MAILTO:info@ivanhoebaptist.org.au
END:VEVENT
END:VCALENDAR