BEGIN:VCALENDAR
VERSION:2.0
PRODID:-//Ivanhoe Baptist Community - ECPv6.15.20//NONSGML v1.0//EN
CALSCALE:GREGORIAN
METHOD:PUBLISH
X-WR-CALNAME:Ivanhoe Baptist Community
X-ORIGINAL-URL:https://ivanhoebaptist.org.au
X-WR-CALDESC:Events for Ivanhoe Baptist Community
REFRESH-INTERVAL;VALUE=DURATION:PT1H
X-Robots-Tag:noindex
X-PUBLISHED-TTL:PT1H
BEGIN:VTIMEZONE
TZID:Australia/Melbourne
BEGIN:STANDARD
TZOFFSETFROM:+1100
TZOFFSETTO:+1000
TZNAME:AEST
DTSTART:20250405T160000
END:STANDARD
BEGIN:DAYLIGHT
TZOFFSETFROM:+1000
TZOFFSETTO:+1100
TZNAME:AEDT
DTSTART:20251004T160000
END:DAYLIGHT
BEGIN:STANDARD
TZOFFSETFROM:+1100
TZOFFSETTO:+1000
TZNAME:AEST
DTSTART:20260404T160000
END:STANDARD
BEGIN:DAYLIGHT
TZOFFSETFROM:+1000
TZOFFSETTO:+1100
TZNAME:AEDT
DTSTART:20261003T160000
END:DAYLIGHT
BEGIN:STANDARD
TZOFFSETFROM:+1100
TZOFFSETTO:+1000
TZNAME:AEST
DTSTART:20270403T160000
END:STANDARD
BEGIN:DAYLIGHT
TZOFFSETFROM:+1000
TZOFFSETTO:+1100
TZNAME:AEDT
DTSTART:20271002T160000
END:DAYLIGHT
END:VTIMEZONE
BEGIN:VEVENT
DTSTART;TZID=Australia/Melbourne:20260301T100000
DTEND;TZID=Australia/Melbourne:20260301T113000
DTSTAMP:20260421T210636
CREATED:20260224T055402Z
LAST-MODIFIED:20260224T055704Z
UID:38620-1772359200-1772364600@ivanhoebaptist.org.au
SUMMARY:The Great Confession - Sunday @ 10am
DESCRIPTION:‘Who do you say that I am?’ Peter gets the answer right: ‘You are the Messiah.’ But then Jesus says something shocking: the Messiah must suffer and die. Peter objects. Jesus responds: ‘Get behind me\, Satan!’ This is the turning point of Mark’s Gospel. Jesus reveals what kind of Messiah he is\, and what it costs to follow him: ‘Take up your cross.’ \n The most important question you’ll ever answer\, and the most radical call you’ll ever receive. \n\nCommunion will be served during the service. \nAll welcome. \nMorning tea will be served after the service.
URL:https://ivanhoebaptist.org.au/event/the-great-confession-sunday-10am/
LOCATION:Ivanhoe Baptist Church\, 1 Livingstone Street\, IVANHOE\, VIC\, 3079\, Australia
ATTACH;FMTTYPE=image/jpeg:https://ivanhoebaptist.org.au/gem/wp-content/uploads/2026/02/2026-03-01-Mark-The-Great-Confession-and-the-Hard-Truth.jpg
ORGANIZER;CN="Ivanhoe Baptist Church":MAILTO:info@ivanhoebaptist.org.au
END:VEVENT
END:VCALENDAR