BEGIN:VCALENDAR
VERSION:2.0
PRODID:-//Ivanhoe Baptist Community - ECPv6.15.20//NONSGML v1.0//EN
CALSCALE:GREGORIAN
METHOD:PUBLISH
X-WR-CALNAME:Ivanhoe Baptist Community
X-ORIGINAL-URL:https://ivanhoebaptist.org.au
X-WR-CALDESC:Events for Ivanhoe Baptist Community
REFRESH-INTERVAL;VALUE=DURATION:PT1H
X-Robots-Tag:noindex
X-PUBLISHED-TTL:PT1H
BEGIN:VTIMEZONE
TZID:Australia/Melbourne
BEGIN:STANDARD
TZOFFSETFROM:+1100
TZOFFSETTO:+1000
TZNAME:AEST
DTSTART:20250405T160000
END:STANDARD
BEGIN:DAYLIGHT
TZOFFSETFROM:+1000
TZOFFSETTO:+1100
TZNAME:AEDT
DTSTART:20251004T160000
END:DAYLIGHT
BEGIN:STANDARD
TZOFFSETFROM:+1100
TZOFFSETTO:+1000
TZNAME:AEST
DTSTART:20260404T160000
END:STANDARD
BEGIN:DAYLIGHT
TZOFFSETFROM:+1000
TZOFFSETTO:+1100
TZNAME:AEDT
DTSTART:20261003T160000
END:DAYLIGHT
BEGIN:STANDARD
TZOFFSETFROM:+1100
TZOFFSETTO:+1000
TZNAME:AEST
DTSTART:20270403T160000
END:STANDARD
BEGIN:DAYLIGHT
TZOFFSETFROM:+1000
TZOFFSETTO:+1100
TZNAME:AEDT
DTSTART:20271002T160000
END:DAYLIGHT
END:VTIMEZONE
BEGIN:VEVENT
DTSTART;TZID=Australia/Melbourne:20260315T100000
DTEND;TZID=Australia/Melbourne:20260315T113000
DTSTAMP:20260421T210542
CREATED:20260312T044236Z
LAST-MODIFIED:20260312T044345Z
UID:38625-1773568800-1773574200@ivanhoebaptist.org.au
SUMMARY:That One Thing - Sunday @ 10am
DESCRIPTION:What is the “One Thing” that shapes your life? \nA wealthy young man runs to Jesus and kneels: ‘What must I do to inherit eternal life?’ He’s kept all the commandments. But Jesus says\, ‘You lack one thing: sell everything and follow me.’ The man goes away sad—the only person in the Gospels who comes to Jesus and leaves sad. \nThis Sunday: What’s your ‘one thing’? What are you unwilling to surrender? And can you trust Jesus’ stunning promise: ‘With God all things are possible’? \nMorning tea will be served after the service.
URL:https://ivanhoebaptist.org.au/event/that-one-thing-sunday-10am/
LOCATION:Ivanhoe Baptist Church\, 1 Livingstone Street\, IVANHOE\, VIC\, 3079\, Australia
ATTACH;FMTTYPE=image/jpeg:https://ivanhoebaptist.org.au/gem/wp-content/uploads/2026/03/2026-03-15-The-Rich-Man.jpg
ORGANIZER;CN="Ivanhoe Baptist Church":MAILTO:info@ivanhoebaptist.org.au
END:VEVENT
END:VCALENDAR