BEGIN:VCALENDAR
VERSION:2.0
PRODID:-//Ivanhoe Baptist Community - ECPv6.15.20//NONSGML v1.0//EN
CALSCALE:GREGORIAN
METHOD:PUBLISH
X-WR-CALNAME:Ivanhoe Baptist Community
X-ORIGINAL-URL:https://ivanhoebaptist.org.au
X-WR-CALDESC:Events for Ivanhoe Baptist Community
REFRESH-INTERVAL;VALUE=DURATION:PT1H
X-Robots-Tag:noindex
X-PUBLISHED-TTL:PT1H
BEGIN:VTIMEZONE
TZID:Australia/Melbourne
BEGIN:STANDARD
TZOFFSETFROM:+1100
TZOFFSETTO:+1000
TZNAME:AEST
DTSTART:20240406T160000
END:STANDARD
BEGIN:DAYLIGHT
TZOFFSETFROM:+1000
TZOFFSETTO:+1100
TZNAME:AEDT
DTSTART:20241005T160000
END:DAYLIGHT
BEGIN:STANDARD
TZOFFSETFROM:+1100
TZOFFSETTO:+1000
TZNAME:AEST
DTSTART:20250405T160000
END:STANDARD
BEGIN:DAYLIGHT
TZOFFSETFROM:+1000
TZOFFSETTO:+1100
TZNAME:AEDT
DTSTART:20251004T160000
END:DAYLIGHT
BEGIN:STANDARD
TZOFFSETFROM:+1100
TZOFFSETTO:+1000
TZNAME:AEST
DTSTART:20260404T160000
END:STANDARD
BEGIN:DAYLIGHT
TZOFFSETFROM:+1000
TZOFFSETTO:+1100
TZNAME:AEDT
DTSTART:20261003T160000
END:DAYLIGHT
END:VTIMEZONE
BEGIN:VEVENT
DTSTART;TZID=Australia/Melbourne:20250622T100000
DTEND;TZID=Australia/Melbourne:20250622T113000
DTSTAMP:20260425T101457
CREATED:20250617T031524Z
LAST-MODIFIED:20250617T034032Z
UID:38377-1750586400-1750591800@ivanhoebaptist.org.au
SUMMARY:Sunday @ 10am - The Way of Compassion
DESCRIPTION:Blessed are the merciful\, for they will be shown mercy – Jesus\nWhat does it mean to live with true compassion in a world that desperately needs mercy? \nThis Sunday\, we’ll wrestle with one of Jesus’ most challenging teachings. How do we show genuine mercy without enabling harmful behavior? What’s the difference between compassion that heals and kindness that hurts? These aren’t easy questions\, but they’re essential ones for anyone seeking to follow the way of Jesus. \nThe tension is real: We want to be merciful\, but we also see how “mercy” can sometimes perpetuate cycles of harm. We long to be compassionate\, but wonder if we’re actually helping or hurting. Jesus calls us blessed when we’re merciful—but what does that mercy actually look like in our families\, friendships\, and community? \nJoin Us This Sunday\nWhere: Livingstone Community Centre Hall\nWhat to Expect: \n\nHeartfelt worship\nTime for prayer\, reflection and singing\nHonest conversation about mercy in action\nA warm\, welcoming community exploring God’s invitation to blessed living\n\nWhether you’re wrestling with forgiveness\, wondering how to help someone you love\, or simply curious about what Jesus meant when he called the merciful “blessed\,” you’re welcome here. \nCome as you are. Bring your questions. Let’s explore together what it means to live the Way of Compassion.
URL:https://ivanhoebaptist.org.au/event/sunday-10am-the-way-of-compassion/
LOCATION:Livingstone Community Centre\, 1 Livingstone Street\, IVANHOE\, VIC\, 3079\, Australia
ATTACH;FMTTYPE=image/jpeg:https://ivanhoebaptist.org.au/gem/wp-content/uploads/2025/06/2025-06-22-Cover.jpg
ORGANIZER;CN="Ivanhoe Baptist Church":MAILTO:info@ivanhoebaptist.org.au
END:VEVENT
END:VCALENDAR