BEGIN:VCALENDAR
VERSION:2.0
PRODID:-//Ivanhoe Baptist Community - ECPv6.15.20//NONSGML v1.0//EN
CALSCALE:GREGORIAN
METHOD:PUBLISH
X-WR-CALNAME:Ivanhoe Baptist Community
X-ORIGINAL-URL:https://ivanhoebaptist.org.au
X-WR-CALDESC:Events for Ivanhoe Baptist Community
REFRESH-INTERVAL;VALUE=DURATION:PT1H
X-Robots-Tag:noindex
X-PUBLISHED-TTL:PT1H
BEGIN:VTIMEZONE
TZID:Australia/Melbourne
BEGIN:STANDARD
TZOFFSETFROM:+1100
TZOFFSETTO:+1000
TZNAME:AEST
DTSTART:20240406T160000
END:STANDARD
BEGIN:DAYLIGHT
TZOFFSETFROM:+1000
TZOFFSETTO:+1100
TZNAME:AEDT
DTSTART:20241005T160000
END:DAYLIGHT
BEGIN:STANDARD
TZOFFSETFROM:+1100
TZOFFSETTO:+1000
TZNAME:AEST
DTSTART:20250405T160000
END:STANDARD
BEGIN:DAYLIGHT
TZOFFSETFROM:+1000
TZOFFSETTO:+1100
TZNAME:AEDT
DTSTART:20251004T160000
END:DAYLIGHT
BEGIN:STANDARD
TZOFFSETFROM:+1100
TZOFFSETTO:+1000
TZNAME:AEST
DTSTART:20260404T160000
END:STANDARD
BEGIN:DAYLIGHT
TZOFFSETFROM:+1000
TZOFFSETTO:+1100
TZNAME:AEDT
DTSTART:20261003T160000
END:DAYLIGHT
END:VTIMEZONE
BEGIN:VEVENT
DTSTART;TZID=Australia/Melbourne:20250817T100000
DTEND;TZID=Australia/Melbourne:20250817T113000
DTSTAMP:20260422T202829
CREATED:20250814T082432Z
LAST-MODIFIED:20250816T060326Z
UID:38412-1755424800-1755430200@ivanhoebaptist.org.au
SUMMARY:Our Chapel is 100 - Sunday @ 10am
DESCRIPTION:The Argus – Monday 27 July 1925\nOn the last weekend in July 1925 the Ivanhoe Baptist Church opened its brand new chapel on the corner of Livingstone Street and Waterdale Road in Ivanhoe. The church\, just 13 years old at the time\, had outgrown its first chapel (now the Livingstone Community Centre Building)\, navigated a world war\, and had taken a courageous step of faith by building a new and larger chapel to carry them into the future. One hundred years later that step of courageous faith continues bless the Ivanhoe Community. \nJoin us on Sunday as we give thanks for a century of memories and ministry that have arisen from this building. \nMorning tea will be served after the service. \nAll welcome.
URL:https://ivanhoebaptist.org.au/event/our-chapel-is-100-sunday-10am/
LOCATION:Ivanhoe Baptist Church\, 1 Livingstone Street\, IVANHOE\, VIC\, 3079\, Australia
ATTACH;FMTTYPE=image/jpeg:https://ivanhoebaptist.org.au/gem/wp-content/uploads/2025/08/2025-08-17-100-years.jpg
ORGANIZER;CN="Ivanhoe Baptist Church":MAILTO:info@ivanhoebaptist.org.au
END:VEVENT
END:VCALENDAR