BEGIN:VCALENDAR
VERSION:2.0
PRODID:-//Ivanhoe Baptist Community - ECPv6.15.20//NONSGML v1.0//EN
CALSCALE:GREGORIAN
METHOD:PUBLISH
X-WR-CALNAME:Ivanhoe Baptist Community
X-ORIGINAL-URL:https://ivanhoebaptist.org.au
X-WR-CALDESC:Events for Ivanhoe Baptist Community
REFRESH-INTERVAL;VALUE=DURATION:PT1H
X-Robots-Tag:noindex
X-PUBLISHED-TTL:PT1H
BEGIN:VTIMEZONE
TZID:Australia/Melbourne
BEGIN:STANDARD
TZOFFSETFROM:+1100
TZOFFSETTO:+1000
TZNAME:AEST
DTSTART:20250405T160000
END:STANDARD
BEGIN:DAYLIGHT
TZOFFSETFROM:+1000
TZOFFSETTO:+1100
TZNAME:AEDT
DTSTART:20251004T160000
END:DAYLIGHT
BEGIN:STANDARD
TZOFFSETFROM:+1100
TZOFFSETTO:+1000
TZNAME:AEST
DTSTART:20260404T160000
END:STANDARD
BEGIN:DAYLIGHT
TZOFFSETFROM:+1000
TZOFFSETTO:+1100
TZNAME:AEDT
DTSTART:20261003T160000
END:DAYLIGHT
BEGIN:STANDARD
TZOFFSETFROM:+1100
TZOFFSETTO:+1000
TZNAME:AEST
DTSTART:20270403T160000
END:STANDARD
BEGIN:DAYLIGHT
TZOFFSETFROM:+1000
TZOFFSETTO:+1100
TZNAME:AEDT
DTSTART:20271002T160000
END:DAYLIGHT
END:VTIMEZONE
BEGIN:VEVENT
DTSTART;TZID=Australia/Melbourne:20260222T103000
DTEND;TZID=Australia/Melbourne:20260222T113000
DTSTAMP:20260421T211243
CREATED:20260213T090427Z
LAST-MODIFIED:20260216T054435Z
UID:38583-1771756200-1771759800@ivanhoebaptist.org.au
SUMMARY:Mosaic Combined Churches Service - Regent Baptist Church
DESCRIPTION:Join Us for a Special Combined Churches Service to be held at Regent Baptist Church. \nNOTE: there will be no service at Ivanhoe that morning. \nOn Sunday 22nd February @ 10.30am we’re excited to welcome Rev Alexandra Sangster — Councillor on Darebin Council and Minister at St Kilda South Port Uniting Church — as she brings us a timely Lenten reflection on “The Call to Grow and Serve”. \nWe’ll explore how God’s word takes root in our lives and challenges us to serve our communities with purpose. \nWhat to expect: \n\nInspiring reflection\nInsights from ministry and local government\nCommunion\nMission update from Lisa serving in South Asia\nFellowship and refreshments\n\nJoin us in person or online — the service will be live-streamed on ZOOM – the link is \nhttps://us06web.zoom.us/j/86297482433?pwd=Qm5ldTJ1YzFwemI5RjFuV2dqeXFYQT09 \nMeeting Id 862 9748 2433 \nPassword 375712 \nThe Mosaic Network is a partnership between Ivanhoe\, Regent\, Rosanna and West Preston Baptist Churches. \nAll welcome!
URL:https://ivanhoebaptist.org.au/event/mosaic-combined-churches-service-regent-baptist-church/
LOCATION:Regent Baptist Church\, 734 High Street\, RESERVOIR\, VIC\, 3073\, Australia
ATTACH;FMTTYPE=image/jpeg:https://ivanhoebaptist.org.au/gem/wp-content/uploads/2026/02/2026-02-22-Mosaic-Service-e1771220665591.jpg
END:VEVENT
END:VCALENDAR