BEGIN:VCALENDAR
VERSION:2.0
PRODID:-//Ivanhoe Baptist Community - ECPv6.15.20//NONSGML v1.0//EN
CALSCALE:GREGORIAN
METHOD:PUBLISH
X-WR-CALNAME:Ivanhoe Baptist Community
X-ORIGINAL-URL:https://ivanhoebaptist.org.au
X-WR-CALDESC:Events for Ivanhoe Baptist Community
REFRESH-INTERVAL;VALUE=DURATION:PT1H
X-Robots-Tag:noindex
X-PUBLISHED-TTL:PT1H
BEGIN:VTIMEZONE
TZID:Australia/Melbourne
BEGIN:STANDARD
TZOFFSETFROM:+1100
TZOFFSETTO:+1000
TZNAME:AEST
DTSTART:20240406T160000
END:STANDARD
BEGIN:DAYLIGHT
TZOFFSETFROM:+1000
TZOFFSETTO:+1100
TZNAME:AEDT
DTSTART:20241005T160000
END:DAYLIGHT
BEGIN:STANDARD
TZOFFSETFROM:+1100
TZOFFSETTO:+1000
TZNAME:AEST
DTSTART:20250405T160000
END:STANDARD
BEGIN:DAYLIGHT
TZOFFSETFROM:+1000
TZOFFSETTO:+1100
TZNAME:AEDT
DTSTART:20251004T160000
END:DAYLIGHT
BEGIN:STANDARD
TZOFFSETFROM:+1100
TZOFFSETTO:+1000
TZNAME:AEST
DTSTART:20260404T160000
END:STANDARD
BEGIN:DAYLIGHT
TZOFFSETFROM:+1000
TZOFFSETTO:+1100
TZNAME:AEDT
DTSTART:20261003T160000
END:DAYLIGHT
END:VTIMEZONE
BEGIN:VEVENT
DTSTART;TZID=Australia/Melbourne:20251116T100000
DTEND;TZID=Australia/Melbourne:20251116T110000
DTSTAMP:20260422T034246
CREATED:20251110T040414Z
LAST-MODIFIED:20251110T040658Z
UID:38472-1763287200-1763290800@ivanhoebaptist.org.au
SUMMARY:Mosaic Combined Church Service - Sunday @ 10am
DESCRIPTION:Join us for a very special combined church service with our Mosaic friends. Together we will explore our identity in Christ\, connection with each other and mission in the world.\n\n\nVenue: Rosanna Baptist Church. Please note that there is no service at Ivanhoe that morning.\n\n\nMorning Tea will be served after the service.\n\n\nCan’t make it in person? Join on ZOOM:\n\n\nZoom Details:\nhttps://us02web.zoom.us/j/83106281582…\n\n\nMeeting ID: 831 0628 1582\nPasscode: 019053\n\n\nAll Welcome
URL:https://ivanhoebaptist.org.au/event/mosaic-combined-church-service-sunday-10am/
LOCATION:Rosanna Baptist Church\, 5 Waiora Road\, HEIDELBERG HEIGHTS\, VIC\, 3081\, Australia
ATTACH;FMTTYPE=image/jpeg:https://ivanhoebaptist.org.au/gem/wp-content/uploads/2025/11/Mosaic-facebook-2025-11.jpg
END:VEVENT
END:VCALENDAR