BEGIN:VCALENDAR
VERSION:2.0
PRODID:-//Ivanhoe Baptist Community - ECPv6.15.20//NONSGML v1.0//EN
CALSCALE:GREGORIAN
METHOD:PUBLISH
X-WR-CALNAME:Ivanhoe Baptist Community
X-ORIGINAL-URL:https://ivanhoebaptist.org.au
X-WR-CALDESC:Events for Ivanhoe Baptist Community
REFRESH-INTERVAL;VALUE=DURATION:PT1H
X-Robots-Tag:noindex
X-PUBLISHED-TTL:PT1H
BEGIN:VTIMEZONE
TZID:Australia/Melbourne
BEGIN:STANDARD
TZOFFSETFROM:+1100
TZOFFSETTO:+1000
TZNAME:AEST
DTSTART:20240406T160000
END:STANDARD
BEGIN:DAYLIGHT
TZOFFSETFROM:+1000
TZOFFSETTO:+1100
TZNAME:AEDT
DTSTART:20241005T160000
END:DAYLIGHT
BEGIN:STANDARD
TZOFFSETFROM:+1100
TZOFFSETTO:+1000
TZNAME:AEST
DTSTART:20250405T160000
END:STANDARD
BEGIN:DAYLIGHT
TZOFFSETFROM:+1000
TZOFFSETTO:+1100
TZNAME:AEDT
DTSTART:20251004T160000
END:DAYLIGHT
BEGIN:STANDARD
TZOFFSETFROM:+1100
TZOFFSETTO:+1000
TZNAME:AEST
DTSTART:20260404T160000
END:STANDARD
BEGIN:DAYLIGHT
TZOFFSETFROM:+1000
TZOFFSETTO:+1100
TZNAME:AEDT
DTSTART:20261003T160000
END:DAYLIGHT
END:VTIMEZONE
BEGIN:VEVENT
DTSTART;TZID=Australia/Melbourne:20251130T100000
DTEND;TZID=Australia/Melbourne:20251130T113000
DTSTAMP:20260421T235718
CREATED:20251127T030639Z
LAST-MODIFIED:20251127T030639Z
UID:38482-1764496800-1764502200@ivanhoebaptist.org.au
SUMMARY:Hope in the Waiting - Sunday@10am
DESCRIPTION:We begin Advent by lighting a single candle—a small flame of Hope that burns like a pilot light in our hearts. This isn’t about manufactured optimism or pretending everything is fine. It’s about discovering that God has already thrown open the door to us\, even when we feel we can barely open ours to Him. \nThe ancient prophets waited for centuries. Mary and Joseph waited for a promise. What if your waiting—right here\, right now—is not empty time but sacred space? Join us as we explore how hope anchors the soul\, especially when we’re running on empty. \nThis Sunday includes Communion \nMorning Tea is served after the service. \nAll Welcome
URL:https://ivanhoebaptist.org.au/event/hope-in-the-waiting-sunday10am/
LOCATION:Ivanhoe Baptist Church\, 1 Livingstone Street\, IVANHOE\, VIC\, 3079\, Australia
ATTACH;FMTTYPE=image/jpeg:https://ivanhoebaptist.org.au/gem/wp-content/uploads/2025/11/2025-11-30-Advent-1.jpg
ORGANIZER;CN="Ivanhoe Baptist Church":MAILTO:info@ivanhoebaptist.org.au
END:VEVENT
END:VCALENDAR