BEGIN:VCALENDAR
VERSION:2.0
PRODID:-//Ivanhoe Baptist Community - ECPv6.15.20//NONSGML v1.0//EN
CALSCALE:GREGORIAN
METHOD:PUBLISH
X-WR-CALNAME:Ivanhoe Baptist Community
X-ORIGINAL-URL:https://ivanhoebaptist.org.au
X-WR-CALDESC:Events for Ivanhoe Baptist Community
REFRESH-INTERVAL;VALUE=DURATION:PT1H
X-Robots-Tag:noindex
X-PUBLISHED-TTL:PT1H
BEGIN:VTIMEZONE
TZID:Australia/Melbourne
BEGIN:STANDARD
TZOFFSETFROM:+1100
TZOFFSETTO:+1000
TZNAME:AEST
DTSTART:20250405T160000
END:STANDARD
BEGIN:DAYLIGHT
TZOFFSETFROM:+1000
TZOFFSETTO:+1100
TZNAME:AEDT
DTSTART:20251004T160000
END:DAYLIGHT
BEGIN:STANDARD
TZOFFSETFROM:+1100
TZOFFSETTO:+1000
TZNAME:AEST
DTSTART:20260404T160000
END:STANDARD
BEGIN:DAYLIGHT
TZOFFSETFROM:+1000
TZOFFSETTO:+1100
TZNAME:AEDT
DTSTART:20261003T160000
END:DAYLIGHT
BEGIN:STANDARD
TZOFFSETFROM:+1100
TZOFFSETTO:+1000
TZNAME:AEST
DTSTART:20270403T160000
END:STANDARD
BEGIN:DAYLIGHT
TZOFFSETFROM:+1000
TZOFFSETTO:+1100
TZNAME:AEDT
DTSTART:20271002T160000
END:DAYLIGHT
END:VTIMEZONE
BEGIN:VEVENT
DTSTART;TZID=Australia/Melbourne:20260111T100000
DTEND;TZID=Australia/Melbourne:20260111T113000
DTSTAMP:20260421T211141
CREATED:20260106T061005Z
LAST-MODIFIED:20260106T062038Z
UID:38511-1768125600-1768131000@ivanhoebaptist.org.au
SUMMARY:Herod the not so great - Sunday @ 10am
DESCRIPTION:Join us this Sunday\, January 11th at 10am as we explore the cautionary tale of Herod the Great—a man who built monuments that stunned the world but couldn’t build peace in his own heart. \nHerod was clever\, powerful\, and wildly successful. He constructed cities and renovated the Jerusalem Temple into one of the ancient wonders of the world. Yet he died paranoid and alone—having murdered his own wife and three sons and countless others. \nWhen the Magi arrived seeking a newborn King\, Herod ordered the massacre of innocent children in Bethlehem. He had rebuilt God’s temple in magnificent splendor\, yet when God came to earth as a baby\, Herod tried to kill Him. \nJesus asked\, “For what does it profit a person if they gain the whole world but lose or forfeit themselves?” This Sunday\, discover what Herod’s life teaches us about ambition\, identity\, and the kingdoms we build. \nMorning tea and refreshments are served following the service. \nAll Welcome
URL:https://ivanhoebaptist.org.au/event/herod-the-not-so-great-sunday-10am/
LOCATION:Livingstone Community Centre\, 1 Livingstone Street\, IVANHOE\, VIC\, 3079\, Australia
ATTACH;FMTTYPE=image/jpeg:https://ivanhoebaptist.org.au/gem/wp-content/uploads/2026/01/2026-01-11-Herod.jpg
ORGANIZER;CN="Ivanhoe Baptist Church":MAILTO:info@ivanhoebaptist.org.au
END:VEVENT
END:VCALENDAR