BEGIN:VCALENDAR
VERSION:2.0
PRODID:-//Ivanhoe Baptist Community - ECPv6.15.20//NONSGML v1.0//EN
CALSCALE:GREGORIAN
METHOD:PUBLISH
X-WR-CALNAME:Ivanhoe Baptist Community
X-ORIGINAL-URL:https://ivanhoebaptist.org.au
X-WR-CALDESC:Events for Ivanhoe Baptist Community
REFRESH-INTERVAL;VALUE=DURATION:PT1H
X-Robots-Tag:noindex
X-PUBLISHED-TTL:PT1H
BEGIN:VTIMEZONE
TZID:Australia/Melbourne
BEGIN:STANDARD
TZOFFSETFROM:+1100
TZOFFSETTO:+1000
TZNAME:AEST
DTSTART:20240406T160000
END:STANDARD
BEGIN:DAYLIGHT
TZOFFSETFROM:+1000
TZOFFSETTO:+1100
TZNAME:AEDT
DTSTART:20241005T160000
END:DAYLIGHT
BEGIN:STANDARD
TZOFFSETFROM:+1100
TZOFFSETTO:+1000
TZNAME:AEST
DTSTART:20250405T160000
END:STANDARD
BEGIN:DAYLIGHT
TZOFFSETFROM:+1000
TZOFFSETTO:+1100
TZNAME:AEDT
DTSTART:20251004T160000
END:DAYLIGHT
BEGIN:STANDARD
TZOFFSETFROM:+1100
TZOFFSETTO:+1000
TZNAME:AEST
DTSTART:20260404T160000
END:STANDARD
BEGIN:DAYLIGHT
TZOFFSETFROM:+1000
TZOFFSETTO:+1100
TZNAME:AEDT
DTSTART:20261003T160000
END:DAYLIGHT
END:VTIMEZONE
BEGIN:VEVENT
DTSTART;TZID=Australia/Melbourne:20251207T100000
DTEND;TZID=Australia/Melbourne:20251207T110000
DTSTAMP:20260421T224417
CREATED:20251203T011343Z
LAST-MODIFIED:20251203T011343Z
UID:38486-1765101600-1765105200@ivanhoebaptist.org.au
SUMMARY:Family Christmas Service and BBQ lunch - Sunday @ 10am
DESCRIPTION:Bring the whole family for a special morning of carols\, story\, and celebration! We’ll sing together the songs that have carried Christmas hope across generations—from “Silent Night” to “O Come All Ye Faithful.” \nPeace isn’t the absence of chaos—it’s the presence of Jesus\, steady and kind\, quieting the noise within and around us. Through carols\, scripture\, and interactive elements for all ages\, we’ll discover that we are not left behind or left alone. \nThis service is designed for everyone—from the smallest to the oldest among us. Morning tea and lunch to follow! \nAll ages welcome.
URL:https://ivanhoebaptist.org.au/event/family-christmas-service-and-bbq-lunch-sunday-10am/
LOCATION:Ivanhoe Baptist Church\, 1 Livingstone Street\, IVANHOE\, VIC\, 3079\, Australia
ATTACH;FMTTYPE=image/jpeg:https://ivanhoebaptist.org.au/gem/wp-content/uploads/2025/12/2025-12-07-Advent-2-Family-Service.jpg
ORGANIZER;CN="Ivanhoe Baptist Church":MAILTO:info@ivanhoebaptist.org.au
END:VEVENT
END:VCALENDAR