BEGIN:VCALENDAR
VERSION:2.0
PRODID:-//Ivanhoe Baptist Community - ECPv6.15.20//NONSGML v1.0//EN
CALSCALE:GREGORIAN
METHOD:PUBLISH
X-WR-CALNAME:Ivanhoe Baptist Community
X-ORIGINAL-URL:https://ivanhoebaptist.org.au
X-WR-CALDESC:Events for Ivanhoe Baptist Community
REFRESH-INTERVAL;VALUE=DURATION:PT1H
X-Robots-Tag:noindex
X-PUBLISHED-TTL:PT1H
BEGIN:VTIMEZONE
TZID:Australia/Melbourne
BEGIN:STANDARD
TZOFFSETFROM:+1100
TZOFFSETTO:+1000
TZNAME:AEST
DTSTART:20250405T160000
END:STANDARD
BEGIN:DAYLIGHT
TZOFFSETFROM:+1000
TZOFFSETTO:+1100
TZNAME:AEDT
DTSTART:20251004T160000
END:DAYLIGHT
BEGIN:STANDARD
TZOFFSETFROM:+1100
TZOFFSETTO:+1000
TZNAME:AEST
DTSTART:20260404T160000
END:STANDARD
BEGIN:DAYLIGHT
TZOFFSETFROM:+1000
TZOFFSETTO:+1100
TZNAME:AEDT
DTSTART:20261003T160000
END:DAYLIGHT
BEGIN:STANDARD
TZOFFSETFROM:+1100
TZOFFSETTO:+1000
TZNAME:AEST
DTSTART:20270403T160000
END:STANDARD
BEGIN:DAYLIGHT
TZOFFSETFROM:+1000
TZOFFSETTO:+1100
TZNAME:AEDT
DTSTART:20271002T160000
END:DAYLIGHT
END:VTIMEZONE
BEGIN:VEVENT
DTSTART;TZID=Australia/Melbourne:20260329T100000
DTEND;TZID=Australia/Melbourne:20260329T111500
DTSTAMP:20260421T210542
CREATED:20260324T052015Z
LAST-MODIFIED:20260325T004243Z
UID:38643-1774778400-1774782900@ivanhoebaptist.org.au
SUMMARY:Extravagant Love\, Ultimate Betrayal - Sunday @ 10am
DESCRIPTION:In a house in Bethany\, a woman breaks open an alabaster jar of precious perfume worth a year’s wages and pours it on Jesus’ head. Some call it wasteful. Jesus calls it beautiful—a prophetic anointing for his burial. Immediately after\, Judas goes to the chief priests and offers to betray Jesus for money. Two responses. Two paths. \nThis Palm Sunday\, as we stand at the threshold of Holy Week\, Mark’s Gospel asks: Which will you choose? Extravagant worship or calculated self-interest? Join us as we prepare to walk through Jesus’ final week. \nCommunion will be celebrated during the service. Morning tea will be served after the service. \nAll welcome. \n 
URL:https://ivanhoebaptist.org.au/event/extravagant-love-ultimate-betrayal/
LOCATION:Ivanhoe Baptist Church\, 1 Livingstone Street\, IVANHOE\, VIC\, 3079\, Australia
ATTACH;FMTTYPE=image/jpeg:https://ivanhoebaptist.org.au/gem/wp-content/uploads/2026/03/2026-03-29-The-Whole-Week-in-View.jpg
ORGANIZER;CN="Ivanhoe Baptist Church":MAILTO:info@ivanhoebaptist.org.au
END:VEVENT
END:VCALENDAR