BEGIN:VCALENDAR
VERSION:2.0
PRODID:-//Ivanhoe Baptist Community - ECPv6.15.20//NONSGML v1.0//EN
CALSCALE:GREGORIAN
METHOD:PUBLISH
X-WR-CALNAME:Ivanhoe Baptist Community
X-ORIGINAL-URL:https://ivanhoebaptist.org.au
X-WR-CALDESC:Events for Ivanhoe Baptist Community
REFRESH-INTERVAL;VALUE=DURATION:PT1H
X-Robots-Tag:noindex
X-PUBLISHED-TTL:PT1H
BEGIN:VTIMEZONE
TZID:Australia/Melbourne
BEGIN:STANDARD
TZOFFSETFROM:+1100
TZOFFSETTO:+1000
TZNAME:AEST
DTSTART:20250405T160000
END:STANDARD
BEGIN:DAYLIGHT
TZOFFSETFROM:+1000
TZOFFSETTO:+1100
TZNAME:AEDT
DTSTART:20251004T160000
END:DAYLIGHT
BEGIN:STANDARD
TZOFFSETFROM:+1100
TZOFFSETTO:+1000
TZNAME:AEST
DTSTART:20260404T160000
END:STANDARD
BEGIN:DAYLIGHT
TZOFFSETFROM:+1000
TZOFFSETTO:+1100
TZNAME:AEDT
DTSTART:20261003T160000
END:DAYLIGHT
BEGIN:STANDARD
TZOFFSETFROM:+1100
TZOFFSETTO:+1000
TZNAME:AEST
DTSTART:20270403T160000
END:STANDARD
BEGIN:DAYLIGHT
TZOFFSETFROM:+1000
TZOFFSETTO:+1100
TZNAME:AEDT
DTSTART:20271002T160000
END:DAYLIGHT
END:VTIMEZONE
BEGIN:VEVENT
DTSTART;TZID=Australia/Melbourne:20260402T190000
DTEND;TZID=Australia/Melbourne:20260402T200000
DTSTAMP:20260421T210521
CREATED:20260324T014251Z
LAST-MODIFIED:20260324T014251Z
UID:38634-1775156400-1775160000@ivanhoebaptist.org.au
SUMMARY:Easter @ IBC - Maundy Thursday
DESCRIPTION:On the night before the cross\, Jesus gathered his friends\, took bread\, poured wine\, and said — remember me. \nWe invite you to come as you are and gather again around the table — to slow down\, to be still\, and to remember together what love looks like. \n“Do this in remembrance of me.” — Luke 22:19 \nThis is a special evening set apart — quiet\, unhurried\, and reflective. \nJoin us on Thursday 2 April at 7:00 pm at Ivanhoe Baptist Church around the communion table as we remember Jesus and together remind ourselves of his deep and abiding love for his followers. \nAll are welcome at this table.
URL:https://ivanhoebaptist.org.au/event/easter-ibc-maundy-thursday/
LOCATION:Ivanhoe Baptist Church\, 1 Livingstone Street\, IVANHOE\, VIC\, 3079\, Australia
ATTACH;FMTTYPE=image/jpeg:https://ivanhoebaptist.org.au/gem/wp-content/uploads/2026/03/Easter-Week-scaled.jpg
ORGANIZER;CN="Ivanhoe Baptist Church":MAILTO:info@ivanhoebaptist.org.au
END:VEVENT
END:VCALENDAR