BEGIN:VCALENDAR
VERSION:2.0
PRODID:-//Ivanhoe Baptist Community - ECPv6.15.20//NONSGML v1.0//EN
CALSCALE:GREGORIAN
METHOD:PUBLISH
X-WR-CALNAME:Ivanhoe Baptist Community
X-ORIGINAL-URL:https://ivanhoebaptist.org.au
X-WR-CALDESC:Events for Ivanhoe Baptist Community
REFRESH-INTERVAL;VALUE=DURATION:PT1H
X-Robots-Tag:noindex
X-PUBLISHED-TTL:PT1H
BEGIN:VTIMEZONE
TZID:Australia/Melbourne
BEGIN:STANDARD
TZOFFSETFROM:+1100
TZOFFSETTO:+1000
TZNAME:AEST
DTSTART:20250405T160000
END:STANDARD
BEGIN:DAYLIGHT
TZOFFSETFROM:+1000
TZOFFSETTO:+1100
TZNAME:AEDT
DTSTART:20251004T160000
END:DAYLIGHT
BEGIN:STANDARD
TZOFFSETFROM:+1100
TZOFFSETTO:+1000
TZNAME:AEST
DTSTART:20260404T160000
END:STANDARD
BEGIN:DAYLIGHT
TZOFFSETFROM:+1000
TZOFFSETTO:+1100
TZNAME:AEDT
DTSTART:20261003T160000
END:DAYLIGHT
BEGIN:STANDARD
TZOFFSETFROM:+1100
TZOFFSETTO:+1000
TZNAME:AEST
DTSTART:20270403T160000
END:STANDARD
BEGIN:DAYLIGHT
TZOFFSETFROM:+1000
TZOFFSETTO:+1100
TZNAME:AEDT
DTSTART:20271002T160000
END:DAYLIGHT
END:VTIMEZONE
BEGIN:VEVENT
DTSTART;TZID=Australia/Melbourne:20260125T100000
DTEND;TZID=Australia/Melbourne:20260125T113000
DTSTAMP:20260421T211201
CREATED:20260124T040535Z
LAST-MODIFIED:20260124T040535Z
UID:38517-1769335200-1769340600@ivanhoebaptist.org.au
SUMMARY:Aboriginal Sunday 2026: Be Strong and Courageous - Sunday @ 10am
DESCRIPTION:You are warmly invited to join us for Aboriginal Sunday\, a special service of prayer\, solidarity\, and worship as we stand together with Aboriginal and Torres Strait Islander peoples in the pursuit of justice\, healing\, and reconciliation. \nThis year’s theme\, “Be Strong and Courageous” (Joshua 1:9)\, reminds us that God’s command is also God’s promise—that we need not be afraid\, for the Lord is with us wherever we go. \nAll are welcome as we listen\, pray\, and commit ourselves to walking this journey of friendship and faith together. \nWe are meeting in our Livingstone Community Centre Hall which is airconditioned for your comfort. Morning tea will be served after the service. \nAbout Aboriginal Sunday\nMore than 85 years ago\, Aboriginal Christian Leader William Cooper called on Australian churches to set aside the Sunday before January 26 to stand in solidarity and pray for justice and the flourishing of Aboriginal and Torres Strait Islander peoples. His deep faith and vision inspired what we now know as Aboriginal Sunday—a day for Christians to join together in support of Aboriginal and Torres Strait Islander peoples.\nAboriginal and Torres Strait Christian Elders have long walked this path of strength and courage\, urging the Church to stand boldly and advocate for justice\, healing\, and reconciliation. Their faithful witness continues to inspire and lead us today.\nAboriginal Sunday is an opportunity for our church community to step further into this story. By gathering on January 25\, 2026\, we join a movement of Christians across these lands who are listening deeply\, praying with hope\, and taking action for justice and the flourishing of our Aboriginal and Torres Strait Islander sisters and brothers.\nWe invite you to walk this journey with us as together we pursue justice\, healing\, and flourishing for all peoples and all creation.
URL:https://ivanhoebaptist.org.au/event/aboriginal-sunday-2026-be-strong-and-courageous-sunday-10am/
LOCATION:Livingstone Community Centre\, 1 Livingstone Street\, IVANHOE\, VIC\, 3079\, Australia
ATTACH;FMTTYPE=image/png:https://ivanhoebaptist.org.au/gem/wp-content/uploads/2026/01/20260124_030708133_iOS.png
ORGANIZER;CN="Ivanhoe Baptist Church":MAILTO:info@ivanhoebaptist.org.au
END:VEVENT
END:VCALENDAR