BEGIN:VCALENDAR
VERSION:2.0
PRODID:-//Ivanhoe Baptist Community - ECPv6.15.20//NONSGML v1.0//EN
CALSCALE:GREGORIAN
METHOD:PUBLISH
X-WR-CALNAME:Ivanhoe Baptist Community
X-ORIGINAL-URL:https://ivanhoebaptist.org.au
X-WR-CALDESC:Events for Ivanhoe Baptist Community
REFRESH-INTERVAL;VALUE=DURATION:PT1H
X-Robots-Tag:noindex
X-PUBLISHED-TTL:PT1H
BEGIN:VTIMEZONE
TZID:Australia/Melbourne
BEGIN:STANDARD
TZOFFSETFROM:+1100
TZOFFSETTO:+1000
TZNAME:AEST
DTSTART:20250405T160000
END:STANDARD
BEGIN:DAYLIGHT
TZOFFSETFROM:+1000
TZOFFSETTO:+1100
TZNAME:AEDT
DTSTART:20251004T160000
END:DAYLIGHT
BEGIN:STANDARD
TZOFFSETFROM:+1100
TZOFFSETTO:+1000
TZNAME:AEST
DTSTART:20260404T160000
END:STANDARD
BEGIN:DAYLIGHT
TZOFFSETFROM:+1000
TZOFFSETTO:+1100
TZNAME:AEDT
DTSTART:20261003T160000
END:DAYLIGHT
BEGIN:STANDARD
TZOFFSETFROM:+1100
TZOFFSETTO:+1000
TZNAME:AEST
DTSTART:20270403T160000
END:STANDARD
BEGIN:DAYLIGHT
TZOFFSETFROM:+1000
TZOFFSETTO:+1100
TZNAME:AEDT
DTSTART:20271002T160000
END:DAYLIGHT
END:VTIMEZONE
BEGIN:VEVENT
DTSTART;TZID=Australia/Melbourne:20260322T100000
DTEND;TZID=Australia/Melbourne:20260322T111500
DTSTAMP:20260421T210655
CREATED:20260318T005225Z
LAST-MODIFIED:20260318T005225Z
UID:38630-1774173600-1774178100@ivanhoebaptist.org.au
SUMMARY:A Colt\, a Figtree and a Revolution - Sunday @ 10am
DESCRIPTION:The crowd cheers as Jesus rides into Jerusalem on a donkey. But this Messiah isn’t what they’re expecting. The next day\, he returns to the temple and causes chaos in a dramatic act of upending tables\, scattering crowds and questioning assumptions. \nYes\, we are a week early for “Palm Sunday” but some things are worth preparing for. \nThis Sunday – When God’s kingdom breaks in\, it challenges religious systems\, economic exploitation\, political power and our own allegiances and priorities. Jesus doesn’t come to make us comfortable—he comes to overturn our tables and\, in the process\, discover life. \nMorning tea will be served after the service. \nAll Welcome.
URL:https://ivanhoebaptist.org.au/event/a-colt-a-figtree-and-a-revolution-sunday-10am/
LOCATION:Ivanhoe Baptist Church\, 1 Livingstone Street\, IVANHOE\, VIC\, 3079\, Australia
ATTACH;FMTTYPE=image/jpeg:https://ivanhoebaptist.org.au/gem/wp-content/uploads/2026/03/2026-03-22-The-Triumpal-Entry.jpg
ORGANIZER;CN="Ivanhoe Baptist Church":MAILTO:info@ivanhoebaptist.org.au
END:VEVENT
END:VCALENDAR